BEGIN:VCALENDAR
VERSION:2.0
PRODID:-//achurchnearyou.com//eventfeed//EN
CALSCALE:GREGORIAN
METHOD:PUBLISH
X-WR-TIMEZONE:UTC
BEGIN:VEVENT
SUMMARY:Choral Eucharist celebrating the feast of Christ The King
DTSTART:20251122T160000Z
DTEND:20251122T170000Z
DTSTAMP:20260421T052629Z
UID:12378572025-11-22 16:00:00+00:00achurchnearyou
CATEGORIES:
DESCRIPTION:Returning to St Hilda's for the second time this month\, the w
 onderful Sing My Soul choral scholars will be with us as we celebrate the 
 feast of Christ The King\, at which point the church's year draws to a clo
 se before we embark on a new year at the start of Advent. Please join us a
 nd hear the beautiful voices of the choral scholars in this special Euchar
 ist.
GEO:-2.118301;53.463526
LOCATION:St Hilda's Church\, Audenshaw
URL:https://www.achurchnearyou.com/church/15964/service-and-events/events/
 1237857/
END:VEVENT
END:VCALENDAR
