BEGIN:VCALENDAR
VERSION:2.0
PRODID:-//achurchnearyou.com//eventfeed//EN
CALSCALE:GREGORIAN
METHOD:PUBLISH
X-WR-TIMEZONE:UTC
BEGIN:VEVENT
SUMMARY:Quiet Christmas
DTSTART:20251222T160000Z
DTEND:20251222T163000Z
DTSTAMP:20260421T033904Z
UID:12550702025-12-22 16:00:00+00:00achurchnearyou
CATEGORIES:
DESCRIPTION:PLEASE NOTE:  The start time for this service has changed. It 
 will now take place earlier than planned at 4pm  (this information has bee
 n amended  21-12-25)\nA short time of prayer\, fellowship and quiet reflec
 tion if Christmas is a tough\, challenging time for you\, perhaps because 
 you are missing a loved one....
GEO:-2.118301;53.463526
LOCATION:St Hilda's Church\, Audenshaw
URL:https://www.achurchnearyou.com/church/15964/service-and-events/events/
 1255070/
END:VEVENT
END:VCALENDAR
