BEGIN:VCALENDAR
VERSION:2.0
PRODID:-//achurchnearyou.com//eventfeed//EN
CALSCALE:GREGORIAN
METHOD:PUBLISH
X-WR-TIMEZONE:UTC
BEGIN:VEVENT
SUMMARY:Church Organ Restoration Fund
DTSTART;TZID=Europe/London:20260201T000000
DTEND;TZID=Europe/London:20260201T010000
DTSTAMP:20260426T050523Z
UID:12846552026-02-01 00:00:00+00:00achurchnearyou
CATEGORIES:
DESCRIPTION:Our beautiful church organ requires restoration.
GEO:-2.116378;53.474776
LOCATION:St Stephen
URL:https://www.achurchnearyou.com/church/15965/service-and-events/events/
 1284655/
END:VEVENT
BEGIN:VEVENT
SUMMARY:Church Organ Restoration Fund
DTSTART;TZID=Europe/London:20260202T000000
DTEND;TZID=Europe/London:20260202T010000
DTSTAMP:20260426T050523Z
UID:12846552026-02-02 00:00:00+00:00achurchnearyou
CATEGORIES:
DESCRIPTION:Our beautiful church organ requires restoration.
GEO:-2.116378;53.474776
LOCATION:St Stephen
URL:https://www.achurchnearyou.com/church/15965/service-and-events/events/
 1284655/
END:VEVENT
BEGIN:VEVENT
SUMMARY:Church Organ Restoration Fund
DTSTART;TZID=Europe/London:20260208T000000
DTEND;TZID=Europe/London:20260208T010000
DTSTAMP:20260426T050523Z
UID:12846552026-02-08 00:00:00+00:00achurchnearyou
CATEGORIES:
DESCRIPTION:Our beautiful church organ requires restoration.
GEO:-2.116378;53.474776
LOCATION:St Stephen
URL:https://www.achurchnearyou.com/church/15965/service-and-events/events/
 1284655/
END:VEVENT
BEGIN:VEVENT
SUMMARY:Church Organ Restoration Fund
DTSTART;TZID=Europe/London:20260209T000000
DTEND;TZID=Europe/London:20260209T010000
DTSTAMP:20260426T050523Z
UID:12846552026-02-09 00:00:00+00:00achurchnearyou
CATEGORIES:
DESCRIPTION:Our beautiful church organ requires restoration.
GEO:-2.116378;53.474776
LOCATION:St Stephen
URL:https://www.achurchnearyou.com/church/15965/service-and-events/events/
 1284655/
END:VEVENT
BEGIN:VEVENT
SUMMARY:Church Organ Restoration Fund
DTSTART;TZID=Europe/London:20260215T000000
DTEND;TZID=Europe/London:20260215T010000
DTSTAMP:20260426T050523Z
UID:12846552026-02-15 00:00:00+00:00achurchnearyou
CATEGORIES:
DESCRIPTION:Our beautiful church organ requires restoration.
GEO:-2.116378;53.474776
LOCATION:St Stephen
URL:https://www.achurchnearyou.com/church/15965/service-and-events/events/
 1284655/
END:VEVENT
BEGIN:VEVENT
SUMMARY:Church Organ Restoration Fund
DTSTART;TZID=Europe/London:20260216T000000
DTEND;TZID=Europe/London:20260216T010000
DTSTAMP:20260426T050523Z
UID:12846552026-02-16 00:00:00+00:00achurchnearyou
CATEGORIES:
DESCRIPTION:Our beautiful church organ requires restoration.
GEO:-2.116378;53.474776
LOCATION:St Stephen
URL:https://www.achurchnearyou.com/church/15965/service-and-events/events/
 1284655/
END:VEVENT
BEGIN:VEVENT
SUMMARY:Church Organ Restoration Fund
DTSTART;TZID=Europe/London:20260222T000000
DTEND;TZID=Europe/London:20260222T010000
DTSTAMP:20260426T050523Z
UID:12846552026-02-22 00:00:00+00:00achurchnearyou
CATEGORIES:
DESCRIPTION:Our beautiful church organ requires restoration.
GEO:-2.116378;53.474776
LOCATION:St Stephen
URL:https://www.achurchnearyou.com/church/15965/service-and-events/events/
 1284655/
END:VEVENT
BEGIN:VEVENT
SUMMARY:Church Organ Restoration Fund
DTSTART;TZID=Europe/London:20260223T000000
DTEND;TZID=Europe/London:20260223T010000
DTSTAMP:20260426T050523Z
UID:12846552026-02-23 00:00:00+00:00achurchnearyou
CATEGORIES:
DESCRIPTION:Our beautiful church organ requires restoration.
GEO:-2.116378;53.474776
LOCATION:St Stephen
URL:https://www.achurchnearyou.com/church/15965/service-and-events/events/
 1284655/
END:VEVENT
BEGIN:VEVENT
SUMMARY:Church Organ Restoration Fund
DTSTART;TZID=Europe/London:20260301T000000
DTEND;TZID=Europe/London:20260301T010000
DTSTAMP:20260426T050523Z
UID:12846552026-03-01 00:00:00+00:00achurchnearyou
CATEGORIES:
DESCRIPTION:Our beautiful church organ requires restoration.
GEO:-2.116378;53.474776
LOCATION:St Stephen
URL:https://www.achurchnearyou.com/church/15965/service-and-events/events/
 1284655/
END:VEVENT
BEGIN:VEVENT
SUMMARY:Church Organ Restoration Fund
DTSTART;TZID=Europe/London:20260302T000000
DTEND;TZID=Europe/London:20260302T010000
DTSTAMP:20260426T050523Z
UID:12846552026-03-02 00:00:00+00:00achurchnearyou
CATEGORIES:
DESCRIPTION:Our beautiful church organ requires restoration.
GEO:-2.116378;53.474776
LOCATION:St Stephen
URL:https://www.achurchnearyou.com/church/15965/service-and-events/events/
 1284655/
END:VEVENT
BEGIN:VEVENT
SUMMARY:Church Organ Restoration Fund
DTSTART;TZID=Europe/London:20260308T000000
DTEND;TZID=Europe/London:20260308T010000
DTSTAMP:20260426T050523Z
UID:12846552026-03-08 00:00:00+00:00achurchnearyou
CATEGORIES:
DESCRIPTION:Our beautiful church organ requires restoration.
GEO:-2.116378;53.474776
LOCATION:St Stephen
URL:https://www.achurchnearyou.com/church/15965/service-and-events/events/
 1284655/
END:VEVENT
BEGIN:VEVENT
SUMMARY:Church Organ Restoration Fund
DTSTART;TZID=Europe/London:20260309T000000
DTEND;TZID=Europe/London:20260309T010000
DTSTAMP:20260426T050523Z
UID:12846552026-03-09 00:00:00+00:00achurchnearyou
CATEGORIES:
DESCRIPTION:Our beautiful church organ requires restoration.
GEO:-2.116378;53.474776
LOCATION:St Stephen
URL:https://www.achurchnearyou.com/church/15965/service-and-events/events/
 1284655/
END:VEVENT
BEGIN:VEVENT
SUMMARY:Church Organ Restoration Fund
DTSTART;TZID=Europe/London:20260315T000000
DTEND;TZID=Europe/London:20260315T010000
DTSTAMP:20260426T050523Z
UID:12846552026-03-15 00:00:00+00:00achurchnearyou
CATEGORIES:
DESCRIPTION:Our beautiful church organ requires restoration.
GEO:-2.116378;53.474776
LOCATION:St Stephen
URL:https://www.achurchnearyou.com/church/15965/service-and-events/events/
 1284655/
END:VEVENT
BEGIN:VEVENT
SUMMARY:Church Organ Restoration Fund
DTSTART;TZID=Europe/London:20260316T000000
DTEND;TZID=Europe/London:20260316T010000
DTSTAMP:20260426T050523Z
UID:12846552026-03-16 00:00:00+00:00achurchnearyou
CATEGORIES:
DESCRIPTION:Our beautiful church organ requires restoration.
GEO:-2.116378;53.474776
LOCATION:St Stephen
URL:https://www.achurchnearyou.com/church/15965/service-and-events/events/
 1284655/
END:VEVENT
BEGIN:VEVENT
SUMMARY:Church Organ Restoration Fund
DTSTART;TZID=Europe/London:20260322T000000
DTEND;TZID=Europe/London:20260322T010000
DTSTAMP:20260426T050523Z
UID:12846552026-03-22 00:00:00+00:00achurchnearyou
CATEGORIES:
DESCRIPTION:Our beautiful church organ requires restoration.
GEO:-2.116378;53.474776
LOCATION:St Stephen
URL:https://www.achurchnearyou.com/church/15965/service-and-events/events/
 1284655/
END:VEVENT
BEGIN:VEVENT
SUMMARY:Church Organ Restoration Fund
DTSTART;TZID=Europe/London:20260323T000000
DTEND;TZID=Europe/London:20260323T010000
DTSTAMP:20260426T050523Z
UID:12846552026-03-23 00:00:00+00:00achurchnearyou
CATEGORIES:
DESCRIPTION:Our beautiful church organ requires restoration.
GEO:-2.116378;53.474776
LOCATION:St Stephen
URL:https://www.achurchnearyou.com/church/15965/service-and-events/events/
 1284655/
END:VEVENT
BEGIN:VEVENT
SUMMARY:Church Organ Restoration Fund
DTSTART;TZID=Europe/London:20260329T000000
DTEND;TZID=Europe/London:20260329T010000
DTSTAMP:20260426T050523Z
UID:12846552026-03-29 00:00:00+00:00achurchnearyou
CATEGORIES:
DESCRIPTION:Our beautiful church organ requires restoration.
GEO:-2.116378;53.474776
LOCATION:St Stephen
URL:https://www.achurchnearyou.com/church/15965/service-and-events/events/
 1284655/
END:VEVENT
BEGIN:VEVENT
SUMMARY:Church Organ Restoration Fund
DTSTART;TZID=Europe/London:20260330T000000
DTEND;TZID=Europe/London:20260330T010000
DTSTAMP:20260426T050523Z
UID:12846552026-03-30 00:00:00+01:00achurchnearyou
CATEGORIES:
DESCRIPTION:Our beautiful church organ requires restoration.
GEO:-2.116378;53.474776
LOCATION:St Stephen
URL:https://www.achurchnearyou.com/church/15965/service-and-events/events/
 1284655/
END:VEVENT
BEGIN:VEVENT
SUMMARY:Church Organ Restoration Fund
DTSTART;TZID=Europe/London:20260405T000000
DTEND;TZID=Europe/London:20260405T010000
DTSTAMP:20260426T050523Z
UID:12846552026-04-05 00:00:00+01:00achurchnearyou
CATEGORIES:
DESCRIPTION:Our beautiful church organ requires restoration.
GEO:-2.116378;53.474776
LOCATION:St Stephen
URL:https://www.achurchnearyou.com/church/15965/service-and-events/events/
 1284655/
END:VEVENT
BEGIN:VEVENT
SUMMARY:Church Organ Restoration Fund
DTSTART;TZID=Europe/London:20260406T000000
DTEND;TZID=Europe/London:20260406T010000
DTSTAMP:20260426T050523Z
UID:12846552026-04-06 00:00:00+01:00achurchnearyou
CATEGORIES:
DESCRIPTION:Our beautiful church organ requires restoration.
GEO:-2.116378;53.474776
LOCATION:St Stephen
URL:https://www.achurchnearyou.com/church/15965/service-and-events/events/
 1284655/
END:VEVENT
BEGIN:VEVENT
SUMMARY:Church Organ Restoration Fund
DTSTART;TZID=Europe/London:20260412T000000
DTEND;TZID=Europe/London:20260412T010000
DTSTAMP:20260426T050523Z
UID:12846552026-04-12 00:00:00+01:00achurchnearyou
CATEGORIES:
DESCRIPTION:Our beautiful church organ requires restoration.
GEO:-2.116378;53.474776
LOCATION:St Stephen
URL:https://www.achurchnearyou.com/church/15965/service-and-events/events/
 1284655/
END:VEVENT
BEGIN:VEVENT
SUMMARY:Church Organ Restoration Fund
DTSTART;TZID=Europe/London:20260413T000000
DTEND;TZID=Europe/London:20260413T010000
DTSTAMP:20260426T050523Z
UID:12846552026-04-13 00:00:00+01:00achurchnearyou
CATEGORIES:
DESCRIPTION:Our beautiful church organ requires restoration.
GEO:-2.116378;53.474776
LOCATION:St Stephen
URL:https://www.achurchnearyou.com/church/15965/service-and-events/events/
 1284655/
END:VEVENT
BEGIN:VEVENT
SUMMARY:Church Organ Restoration Fund
DTSTART;TZID=Europe/London:20260419T000000
DTEND;TZID=Europe/London:20260419T010000
DTSTAMP:20260426T050523Z
UID:12846552026-04-19 00:00:00+01:00achurchnearyou
CATEGORIES:
DESCRIPTION:Our beautiful church organ requires restoration.
GEO:-2.116378;53.474776
LOCATION:St Stephen
URL:https://www.achurchnearyou.com/church/15965/service-and-events/events/
 1284655/
END:VEVENT
BEGIN:VEVENT
SUMMARY:Church Organ Restoration Fund
DTSTART;TZID=Europe/London:20260420T000000
DTEND;TZID=Europe/London:20260420T010000
DTSTAMP:20260426T050523Z
UID:12846552026-04-20 00:00:00+01:00achurchnearyou
CATEGORIES:
DESCRIPTION:Our beautiful church organ requires restoration.
GEO:-2.116378;53.474776
LOCATION:St Stephen
URL:https://www.achurchnearyou.com/church/15965/service-and-events/events/
 1284655/
END:VEVENT
BEGIN:VEVENT
SUMMARY:Church Organ Restoration Fund
DTSTART;TZID=Europe/London:20260426T000000
DTEND;TZID=Europe/London:20260426T010000
DTSTAMP:20260426T050523Z
UID:12846552026-04-26 00:00:00+01:00achurchnearyou
CATEGORIES:
DESCRIPTION:Our beautiful church organ requires restoration.
GEO:-2.116378;53.474776
LOCATION:St Stephen
URL:https://www.achurchnearyou.com/church/15965/service-and-events/events/
 1284655/
END:VEVENT
BEGIN:VEVENT
SUMMARY:Church Organ Restoration Fund
DTSTART;TZID=Europe/London:20260427T000000
DTEND;TZID=Europe/London:20260427T010000
DTSTAMP:20260426T050523Z
UID:12846552026-04-27 00:00:00+01:00achurchnearyou
CATEGORIES:
DESCRIPTION:Our beautiful church organ requires restoration.
GEO:-2.116378;53.474776
LOCATION:St Stephen
URL:https://www.achurchnearyou.com/church/15965/service-and-events/events/
 1284655/
END:VEVENT
BEGIN:VEVENT
SUMMARY:Church Organ Restoration Fund
DTSTART;TZID=Europe/London:20260503T000000
DTEND;TZID=Europe/London:20260503T010000
DTSTAMP:20260426T050523Z
UID:12846552026-05-03 00:00:00+01:00achurchnearyou
CATEGORIES:
DESCRIPTION:Our beautiful church organ requires restoration.
GEO:-2.116378;53.474776
LOCATION:St Stephen
URL:https://www.achurchnearyou.com/church/15965/service-and-events/events/
 1284655/
END:VEVENT
BEGIN:VEVENT
SUMMARY:Church Organ Restoration Fund
DTSTART;TZID=Europe/London:20260504T000000
DTEND;TZID=Europe/London:20260504T010000
DTSTAMP:20260426T050523Z
UID:12846552026-05-04 00:00:00+01:00achurchnearyou
CATEGORIES:
DESCRIPTION:Our beautiful church organ requires restoration.
GEO:-2.116378;53.474776
LOCATION:St Stephen
URL:https://www.achurchnearyou.com/church/15965/service-and-events/events/
 1284655/
END:VEVENT
BEGIN:VEVENT
SUMMARY:Church Organ Restoration Fund
DTSTART;TZID=Europe/London:20260510T000000
DTEND;TZID=Europe/London:20260510T010000
DTSTAMP:20260426T050523Z
UID:12846552026-05-10 00:00:00+01:00achurchnearyou
CATEGORIES:
DESCRIPTION:Our beautiful church organ requires restoration.
GEO:-2.116378;53.474776
LOCATION:St Stephen
URL:https://www.achurchnearyou.com/church/15965/service-and-events/events/
 1284655/
END:VEVENT
BEGIN:VEVENT
SUMMARY:Church Organ Restoration Fund
DTSTART;TZID=Europe/London:20260511T000000
DTEND;TZID=Europe/London:20260511T010000
DTSTAMP:20260426T050523Z
UID:12846552026-05-11 00:00:00+01:00achurchnearyou
CATEGORIES:
DESCRIPTION:Our beautiful church organ requires restoration.
GEO:-2.116378;53.474776
LOCATION:St Stephen
URL:https://www.achurchnearyou.com/church/15965/service-and-events/events/
 1284655/
END:VEVENT
BEGIN:VEVENT
SUMMARY:Church Organ Restoration Fund
DTSTART;TZID=Europe/London:20260517T000000
DTEND;TZID=Europe/London:20260517T010000
DTSTAMP:20260426T050523Z
UID:12846552026-05-17 00:00:00+01:00achurchnearyou
CATEGORIES:
DESCRIPTION:Our beautiful church organ requires restoration.
GEO:-2.116378;53.474776
LOCATION:St Stephen
URL:https://www.achurchnearyou.com/church/15965/service-and-events/events/
 1284655/
END:VEVENT
BEGIN:VEVENT
SUMMARY:Church Organ Restoration Fund
DTSTART;TZID=Europe/London:20260518T000000
DTEND;TZID=Europe/London:20260518T010000
DTSTAMP:20260426T050523Z
UID:12846552026-05-18 00:00:00+01:00achurchnearyou
CATEGORIES:
DESCRIPTION:Our beautiful church organ requires restoration.
GEO:-2.116378;53.474776
LOCATION:St Stephen
URL:https://www.achurchnearyou.com/church/15965/service-and-events/events/
 1284655/
END:VEVENT
BEGIN:VEVENT
SUMMARY:Church Organ Restoration Fund
DTSTART;TZID=Europe/London:20260524T000000
DTEND;TZID=Europe/London:20260524T010000
DTSTAMP:20260426T050523Z
UID:12846552026-05-24 00:00:00+01:00achurchnearyou
CATEGORIES:
DESCRIPTION:Our beautiful church organ requires restoration.
GEO:-2.116378;53.474776
LOCATION:St Stephen
URL:https://www.achurchnearyou.com/church/15965/service-and-events/events/
 1284655/
END:VEVENT
BEGIN:VEVENT
SUMMARY:Church Organ Restoration Fund
DTSTART;TZID=Europe/London:20260525T000000
DTEND;TZID=Europe/London:20260525T010000
DTSTAMP:20260426T050523Z
UID:12846552026-05-25 00:00:00+01:00achurchnearyou
CATEGORIES:
DESCRIPTION:Our beautiful church organ requires restoration.
GEO:-2.116378;53.474776
LOCATION:St Stephen
URL:https://www.achurchnearyou.com/church/15965/service-and-events/events/
 1284655/
END:VEVENT
BEGIN:VEVENT
SUMMARY:Church Organ Restoration Fund
DTSTART;TZID=Europe/London:20260531T000000
DTEND;TZID=Europe/London:20260531T010000
DTSTAMP:20260426T050523Z
UID:12846552026-05-31 00:00:00+01:00achurchnearyou
CATEGORIES:
DESCRIPTION:Our beautiful church organ requires restoration.
GEO:-2.116378;53.474776
LOCATION:St Stephen
URL:https://www.achurchnearyou.com/church/15965/service-and-events/events/
 1284655/
END:VEVENT
BEGIN:VEVENT
SUMMARY:Church Organ Restoration Fund
DTSTART;TZID=Europe/London:20260601T000000
DTEND;TZID=Europe/London:20260601T010000
DTSTAMP:20260426T050523Z
UID:12846552026-06-01 00:00:00+01:00achurchnearyou
CATEGORIES:
DESCRIPTION:Our beautiful church organ requires restoration.
GEO:-2.116378;53.474776
LOCATION:St Stephen
URL:https://www.achurchnearyou.com/church/15965/service-and-events/events/
 1284655/
END:VEVENT
BEGIN:VEVENT
SUMMARY:Church Organ Restoration Fund
DTSTART;TZID=Europe/London:20260607T000000
DTEND;TZID=Europe/London:20260607T010000
DTSTAMP:20260426T050523Z
UID:12846552026-06-07 00:00:00+01:00achurchnearyou
CATEGORIES:
DESCRIPTION:Our beautiful church organ requires restoration.
GEO:-2.116378;53.474776
LOCATION:St Stephen
URL:https://www.achurchnearyou.com/church/15965/service-and-events/events/
 1284655/
END:VEVENT
BEGIN:VEVENT
SUMMARY:Church Organ Restoration Fund
DTSTART;TZID=Europe/London:20260608T000000
DTEND;TZID=Europe/London:20260608T010000
DTSTAMP:20260426T050523Z
UID:12846552026-06-08 00:00:00+01:00achurchnearyou
CATEGORIES:
DESCRIPTION:Our beautiful church organ requires restoration.
GEO:-2.116378;53.474776
LOCATION:St Stephen
URL:https://www.achurchnearyou.com/church/15965/service-and-events/events/
 1284655/
END:VEVENT
BEGIN:VEVENT
SUMMARY:Church Organ Restoration Fund
DTSTART;TZID=Europe/London:20260614T000000
DTEND;TZID=Europe/London:20260614T010000
DTSTAMP:20260426T050523Z
UID:12846552026-06-14 00:00:00+01:00achurchnearyou
CATEGORIES:
DESCRIPTION:Our beautiful church organ requires restoration.
GEO:-2.116378;53.474776
LOCATION:St Stephen
URL:https://www.achurchnearyou.com/church/15965/service-and-events/events/
 1284655/
END:VEVENT
BEGIN:VEVENT
SUMMARY:Church Organ Restoration Fund
DTSTART;TZID=Europe/London:20260615T000000
DTEND;TZID=Europe/London:20260615T010000
DTSTAMP:20260426T050523Z
UID:12846552026-06-15 00:00:00+01:00achurchnearyou
CATEGORIES:
DESCRIPTION:Our beautiful church organ requires restoration.
GEO:-2.116378;53.474776
LOCATION:St Stephen
URL:https://www.achurchnearyou.com/church/15965/service-and-events/events/
 1284655/
END:VEVENT
BEGIN:VEVENT
SUMMARY:Church Organ Restoration Fund
DTSTART;TZID=Europe/London:20260621T000000
DTEND;TZID=Europe/London:20260621T010000
DTSTAMP:20260426T050523Z
UID:12846552026-06-21 00:00:00+01:00achurchnearyou
CATEGORIES:
DESCRIPTION:Our beautiful church organ requires restoration.
GEO:-2.116378;53.474776
LOCATION:St Stephen
URL:https://www.achurchnearyou.com/church/15965/service-and-events/events/
 1284655/
END:VEVENT
BEGIN:VEVENT
SUMMARY:Church Organ Restoration Fund
DTSTART;TZID=Europe/London:20260622T000000
DTEND;TZID=Europe/London:20260622T010000
DTSTAMP:20260426T050523Z
UID:12846552026-06-22 00:00:00+01:00achurchnearyou
CATEGORIES:
DESCRIPTION:Our beautiful church organ requires restoration.
GEO:-2.116378;53.474776
LOCATION:St Stephen
URL:https://www.achurchnearyou.com/church/15965/service-and-events/events/
 1284655/
END:VEVENT
BEGIN:VEVENT
SUMMARY:Church Organ Restoration Fund
DTSTART;TZID=Europe/London:20260628T000000
DTEND;TZID=Europe/London:20260628T010000
DTSTAMP:20260426T050523Z
UID:12846552026-06-28 00:00:00+01:00achurchnearyou
CATEGORIES:
DESCRIPTION:Our beautiful church organ requires restoration.
GEO:-2.116378;53.474776
LOCATION:St Stephen
URL:https://www.achurchnearyou.com/church/15965/service-and-events/events/
 1284655/
END:VEVENT
BEGIN:VEVENT
SUMMARY:Church Organ Restoration Fund
DTSTART;TZID=Europe/London:20260629T000000
DTEND;TZID=Europe/London:20260629T010000
DTSTAMP:20260426T050523Z
UID:12846552026-06-29 00:00:00+01:00achurchnearyou
CATEGORIES:
DESCRIPTION:Our beautiful church organ requires restoration.
GEO:-2.116378;53.474776
LOCATION:St Stephen
URL:https://www.achurchnearyou.com/church/15965/service-and-events/events/
 1284655/
END:VEVENT
END:VCALENDAR
