BEGIN:VCALENDAR
VERSION:2.0
PRODID:-//achurchnearyou.com//eventfeed//EN
CALSCALE:GREGORIAN
METHOD:PUBLISH
X-WR-TIMEZONE:UTC
BEGIN:VEVENT
SUMMARY:Sunday Service Eucharist
DTSTART:20250330T100000Z
DTEND:20250330T110000Z
DTSTAMP:20260419T124946Z
UID:7247602025-03-30 10:00:00+00:00achurchnearyou
CATEGORIES:
DESCRIPTION:Sunday 30th March  - Fourth Sunday of Lent with Canon Philip M
 iller & Mother's Union members
GEO:-2.121928;53.456103
LOCATION:Christ Church
URL:https://www.achurchnearyou.com/church/15969/service-and-events/events/
 724760/
END:VEVENT
END:VCALENDAR
