BEGIN:VCALENDAR
VERSION:2.0
PRODID:-//achurchnearyou.com//eventfeed//EN
CALSCALE:GREGORIAN
METHOD:PUBLISH
X-WR-TIMEZONE:UTC
BEGIN:VEVENT
SUMMARY:Christmas Day Family Communion Service
DTSTART:20251225T110000Z
DTEND:20251225T121500Z
DTSTAMP:20260424T205309Z
UID:12602782025-12-25 11:00:00+00:00achurchnearyou
CATEGORIES:
DESCRIPTION:Our Annual Christmas Day Family Service
GEO:-2.139158;53.533268
LOCATION:Christ Church
URL:https://www.achurchnearyou.com/church/15981/service-and-events/events/
 1260278/
END:VEVENT
END:VCALENDAR
