BEGIN:VCALENDAR
VERSION:2.0
PRODID:-//achurchnearyou.com//eventfeed//EN
CALSCALE:GREGORIAN
METHOD:PUBLISH
X-WR-TIMEZONE:UTC
BEGIN:VEVENT
SUMMARY:Good Friday Reflective Service
DTSTART:20260403T083000Z
DTEND:20260403T093000Z
DTSTAMP:20260424T094201Z
UID:13169172026-04-03 08:30:00+00:00achurchnearyou
CATEGORIES:
DESCRIPTION:A quiet service of Bible readings and hymns and meditation\, r
 eflecting on the death of Jesus on the cross. All welcome
GEO:-2.139158;53.533268
LOCATION:Christ Church
URL:https://www.achurchnearyou.com/church/15981/service-and-events/events/
 1316917/
END:VEVENT
END:VCALENDAR
