BEGIN:VCALENDAR
VERSION:2.0
PRODID:-//achurchnearyou.com//eventfeed//EN
CALSCALE:GREGORIAN
METHOD:PUBLISH
X-WR-TIMEZONE:UTC
BEGIN:VEVENT
SUMMARY:Maundy Thursday service
DTSTART:20260402T180000Z
DTEND:20260402T190000Z
DTSTAMP:20260424T013000Z
UID:13150432026-04-02 18:00:00+00:00achurchnearyou
CATEGORIES:
DESCRIPTION:Join us at St Andrew's this Maundy Thursday for a reflective s
 ervice with Holy Communion\, to come together as Jesus' disciples did on t
 he night of the Last Supper.
GEO:-2.320583;53.642711
LOCATION:St Andrew's Church\, Ramsbottom
URL:https://www.achurchnearyou.com/church/16039/service-and-events/events/
 1315043/
END:VEVENT
END:VCALENDAR
