BEGIN:VCALENDAR
VERSION:2.0
PRODID:-//achurchnearyou.com//eventfeed//EN
CALSCALE:GREGORIAN
METHOD:PUBLISH
X-WR-TIMEZONE:UTC
BEGIN:VEVENT
SUMMARY:Evening meditation
DTSTART:20260331T180000Z
DTEND:20260331T183000Z
DTSTAMP:20260423T162411Z
UID:13098052026-03-31 18:00:00+00:00achurchnearyou
CATEGORIES:
DESCRIPTION:The Judas and Mary in us. Evening meditation followed by a sho
 rt service of Holy Communion
GEO:-2.340972;53.615795
LOCATION:St Anne
URL:https://www.achurchnearyou.com/church/16043/service-and-events/events/
 1309805/
END:VEVENT
END:VCALENDAR
