BEGIN:VCALENDAR
VERSION:2.0
PRODID:-//achurchnearyou.com//eventfeed//EN
CALSCALE:GREGORIAN
METHOD:PUBLISH
X-WR-TIMEZONE:UTC
BEGIN:VEVENT
SUMMARY:Good Friday
DTSTART:20260403T130000Z
DTEND:20260403T140000Z
DTSTAMP:20260423T074400Z
UID:13098072026-04-03 13:00:00+00:00achurchnearyou
CATEGORIES:
DESCRIPTION:An hour at the Cross. We will use the stations of the Cross to
  follow Jesus on his journey.  We will use a simple Taize chant
GEO:-2.340972;53.615795
LOCATION:St Anne
URL:https://www.achurchnearyou.com/church/16043/service-and-events/events/
 1309807/
END:VEVENT
END:VCALENDAR
