BEGIN:VCALENDAR
VERSION:2.0
PRODID:-//achurchnearyou.com//eventfeed//EN
CALSCALE:GREGORIAN
METHOD:PUBLISH
X-WR-TIMEZONE:UTC
BEGIN:VEVENT
SUMMARY:Mothers' Union
DTSTART;TZID=Europe/London:20260506T140000
DTEND;TZID=Europe/London:20260506T160000
DTSTAMP:20260423T085837Z
UID:8043752026-05-06 14:00:00+01:00achurchnearyou
CATEGORIES:
DESCRIPTION:part of a worldwide movement supporting family life\, open to 
 women and men
GEO:-2.296271;53.619164
LOCATION:Christ Church Walmersley Bury
URL:https://ccwalmersleybury.org.uk/what-we-do/mothers-union
END:VEVENT
BEGIN:VEVENT
SUMMARY:Mothers' Union
DTSTART;TZID=Europe/London:20260603T140000
DTEND;TZID=Europe/London:20260603T160000
DTSTAMP:20260423T085837Z
UID:8043752026-06-03 14:00:00+01:00achurchnearyou
CATEGORIES:
DESCRIPTION:part of a worldwide movement supporting family life\, open to 
 women and men
GEO:-2.296271;53.619164
LOCATION:Christ Church Walmersley Bury
URL:https://ccwalmersleybury.org.uk/what-we-do/mothers-union
END:VEVENT
BEGIN:VEVENT
SUMMARY:Mothers' Union
DTSTART;TZID=Europe/London:20260701T140000
DTEND;TZID=Europe/London:20260701T160000
DTSTAMP:20260423T085837Z
UID:8043752026-07-01 14:00:00+01:00achurchnearyou
CATEGORIES:
DESCRIPTION:part of a worldwide movement supporting family life\, open to 
 women and men
GEO:-2.296271;53.619164
LOCATION:Christ Church Walmersley Bury
URL:https://ccwalmersleybury.org.uk/what-we-do/mothers-union
END:VEVENT
BEGIN:VEVENT
SUMMARY:Mothers' Union
DTSTART;TZID=Europe/London:20260805T140000
DTEND;TZID=Europe/London:20260805T160000
DTSTAMP:20260423T085837Z
UID:8043752026-08-05 14:00:00+01:00achurchnearyou
CATEGORIES:
DESCRIPTION:part of a worldwide movement supporting family life\, open to 
 women and men
GEO:-2.296271;53.619164
LOCATION:Christ Church Walmersley Bury
URL:https://ccwalmersleybury.org.uk/what-we-do/mothers-union
END:VEVENT
BEGIN:VEVENT
SUMMARY:Mothers' Union
DTSTART;TZID=Europe/London:20260902T140000
DTEND;TZID=Europe/London:20260902T160000
DTSTAMP:20260423T085837Z
UID:8043752026-09-02 14:00:00+01:00achurchnearyou
CATEGORIES:
DESCRIPTION:part of a worldwide movement supporting family life\, open to 
 women and men
GEO:-2.296271;53.619164
LOCATION:Christ Church Walmersley Bury
URL:https://ccwalmersleybury.org.uk/what-we-do/mothers-union
END:VEVENT
BEGIN:VEVENT
SUMMARY:Mothers' Union
DTSTART;TZID=Europe/London:20261007T140000
DTEND;TZID=Europe/London:20261007T160000
DTSTAMP:20260423T085837Z
UID:8043752026-10-07 14:00:00+01:00achurchnearyou
CATEGORIES:
DESCRIPTION:part of a worldwide movement supporting family life\, open to 
 women and men
GEO:-2.296271;53.619164
LOCATION:Christ Church Walmersley Bury
URL:https://ccwalmersleybury.org.uk/what-we-do/mothers-union
END:VEVENT
BEGIN:VEVENT
SUMMARY:Mothers' Union
DTSTART;TZID=Europe/London:20261104T140000
DTEND;TZID=Europe/London:20261104T160000
DTSTAMP:20260423T085837Z
UID:8043752026-11-04 14:00:00+00:00achurchnearyou
CATEGORIES:
DESCRIPTION:part of a worldwide movement supporting family life\, open to 
 women and men
GEO:-2.296271;53.619164
LOCATION:Christ Church Walmersley Bury
URL:https://ccwalmersleybury.org.uk/what-we-do/mothers-union
END:VEVENT
BEGIN:VEVENT
SUMMARY:Mothers' Union
DTSTART;TZID=Europe/London:20261202T140000
DTEND;TZID=Europe/London:20261202T160000
DTSTAMP:20260423T085837Z
UID:8043752026-12-02 14:00:00+00:00achurchnearyou
CATEGORIES:
DESCRIPTION:part of a worldwide movement supporting family life\, open to 
 women and men
GEO:-2.296271;53.619164
LOCATION:Christ Church Walmersley Bury
URL:https://ccwalmersleybury.org.uk/what-we-do/mothers-union
END:VEVENT
BEGIN:VEVENT
SUMMARY:Mothers' Union
DTSTART;TZID=Europe/London:20270106T140000
DTEND;TZID=Europe/London:20270106T160000
DTSTAMP:20260423T085837Z
UID:8043752027-01-06 14:00:00+00:00achurchnearyou
CATEGORIES:
DESCRIPTION:part of a worldwide movement supporting family life\, open to 
 women and men
GEO:-2.296271;53.619164
LOCATION:Christ Church Walmersley Bury
URL:https://ccwalmersleybury.org.uk/what-we-do/mothers-union
END:VEVENT
BEGIN:VEVENT
SUMMARY:Mothers' Union
DTSTART;TZID=Europe/London:20270203T140000
DTEND;TZID=Europe/London:20270203T160000
DTSTAMP:20260423T085837Z
UID:8043752027-02-03 14:00:00+00:00achurchnearyou
CATEGORIES:
DESCRIPTION:part of a worldwide movement supporting family life\, open to 
 women and men
GEO:-2.296271;53.619164
LOCATION:Christ Church Walmersley Bury
URL:https://ccwalmersleybury.org.uk/what-we-do/mothers-union
END:VEVENT
BEGIN:VEVENT
SUMMARY:Mothers' Union
DTSTART;TZID=Europe/London:20270303T140000
DTEND;TZID=Europe/London:20270303T160000
DTSTAMP:20260423T085837Z
UID:8043752027-03-03 14:00:00+00:00achurchnearyou
CATEGORIES:
DESCRIPTION:part of a worldwide movement supporting family life\, open to 
 women and men
GEO:-2.296271;53.619164
LOCATION:Christ Church Walmersley Bury
URL:https://ccwalmersleybury.org.uk/what-we-do/mothers-union
END:VEVENT
BEGIN:VEVENT
SUMMARY:Mothers' Union
DTSTART;TZID=Europe/London:20270407T140000
DTEND;TZID=Europe/London:20270407T160000
DTSTAMP:20260423T085837Z
UID:8043752027-04-07 14:00:00+01:00achurchnearyou
CATEGORIES:
DESCRIPTION:part of a worldwide movement supporting family life\, open to 
 women and men
GEO:-2.296271;53.619164
LOCATION:Christ Church Walmersley Bury
URL:https://ccwalmersleybury.org.uk/what-we-do/mothers-union
END:VEVENT
END:VCALENDAR
