BEGIN:VCALENDAR
VERSION:2.0
PRODID:-//achurchnearyou.com//eventfeed//EN
CALSCALE:GREGORIAN
METHOD:PUBLISH
X-WR-TIMEZONE:UTC
BEGIN:VEVENT
SUMMARY:Christingle
DTSTART:20251214T160000Z
DTEND:20251214T170000Z
DTSTAMP:20260424T030635Z
UID:12608202025-12-14 16:00:00+00:00achurchnearyou
CATEGORIES:
DESCRIPTION:A  special family Christmas celebration of the birth of Jesus\
 , the Light of the World\, where we make our Christingles and then light t
 he candles
GEO:-2.538775;53.599203
LOCATION:Holy Trinity Parish Church\, Horwich
URL:https://www.achurchnearyou.com/church/16052/service-and-events/events/
 1260820/
END:VEVENT
END:VCALENDAR
