BEGIN:VCALENDAR
VERSION:2.0
PRODID:-//achurchnearyou.com//eventfeed//EN
CALSCALE:GREGORIAN
METHOD:PUBLISH
X-WR-TIMEZONE:UTC
BEGIN:VEVENT
SUMMARY:Stations of the Cross
DTSTART:20250414T060000Z
DTEND:20250414T070000Z
DTSTAMP:20260421T180320Z
UID:11832922025-04-14 06:00:00+00:00achurchnearyou
CATEGORIES:
DESCRIPTION:A traditional\, reflective service following Jesus' journey to
  the cross.
GEO:-2.526308;53.549201
LOCATION:St Bartholomew's Church
URL:https://www.achurchnearyou.com/church/16057/service-and-events/events/
 1183292/
END:VEVENT
END:VCALENDAR
