BEGIN:VCALENDAR
VERSION:2.0
PRODID:-//achurchnearyou.com//eventfeed//EN
CALSCALE:GREGORIAN
METHOD:PUBLISH
X-WR-TIMEZONE:UTC
BEGIN:VEVENT
SUMMARY:Holy Week and Easter Services
DTSTART:20260315T153000Z
DTEND:20260405T163000Z
DTSTAMP:20260420T213036Z
UID:13083762026-03-15 15:30:00+00:00achurchnearyou
CATEGORIES:
DESCRIPTION:Holy Week and Easter Services across the Team
GEO:-2.526308;53.549201
LOCATION:St Bartholomew's Church
URL:https://www.achurchnearyou.com/church/16057/service-and-events/events/
 1308376/
END:VEVENT
END:VCALENDAR
