BEGIN:VCALENDAR
VERSION:2.0
PRODID:-//achurchnearyou.com//eventfeed//EN
CALSCALE:GREGORIAN
METHOD:PUBLISH
X-WR-TIMEZONE:UTC
BEGIN:VEVENT
SUMMARY:Candlelit Carol Service
DTSTART:20251221T183000Z
DTEND:20251221T193000Z
DTSTAMP:20260419T222905Z
UID:12637662025-12-21 18:30:00+00:00achurchnearyou
CATEGORIES:
DESCRIPTION:Please join us for a special celebration of the joy at the hea
 rt of Christmas with carols and readings.
GEO:-2.526984;53.561584
LOCATION:St John's Wingates
URL:https://www.achurchnearyou.com/church/16058/service-and-events/events/
 1263766/
END:VEVENT
END:VCALENDAR
