BEGIN:VCALENDAR
VERSION:2.0
PRODID:-//achurchnearyou.com//eventfeed//EN
CALSCALE:GREGORIAN
METHOD:PUBLISH
X-WR-TIMEZONE:UTC
BEGIN:VEVENT
SUMMARY:First Sunday of Christmas  Holy Communion (including Healing Praye
 r)
DTSTART:20251228T093000Z
DTEND:20251228T103000Z
DTSTAMP:20260419T202921Z
UID:12638022025-12-28 09:30:00+00:00achurchnearyou
CATEGORIES:
DESCRIPTION:Please join us as we celebrate the first Sunday of Christmas w
 ith a service of Holy Communion.  There will also be an opportunity to rec
 eive healing prayer.\n\nRefreshments will be served after the service.
GEO:-2.526984;53.561584
LOCATION:St John's Wingates
URL:https://www.achurchnearyou.com/church/16058/service-and-events/events/
 1263802/
END:VEVENT
END:VCALENDAR
