BEGIN:VCALENDAR
VERSION:2.0
PRODID:-//achurchnearyou.com//eventfeed//EN
CALSCALE:GREGORIAN
METHOD:PUBLISH
X-WR-TIMEZONE:UTC
BEGIN:VEVENT
SUMMARY:MacMillan Coffee Morning
DTSTART:20250927T090000Z
DTEND:20250927T120000Z
DTSTAMP:20260422T135523Z
UID:12239762025-09-27 09:00:00+00:00achurchnearyou
CATEGORIES:
DESCRIPTION:Help us to support MacMillan.  Cakes\, Tea\, Coffee and toast 
 will be available.  Everyone welcome
GEO:-2.537719;53.498439
LOCATION:St Peter's
URL:https://www.achurchnearyou.com/church/16087/service-and-events/events/
 1223976/
END:VEVENT
END:VCALENDAR
