BEGIN:VCALENDAR
VERSION:2.0
PRODID:-//achurchnearyou.com//eventfeed//EN
CALSCALE:GREGORIAN
METHOD:PUBLISH
X-WR-TIMEZONE:UTC
BEGIN:VEVENT
SUMMARY:Sunday Eucharist
DTSTART;TZID=Europe/London:20260426T100000
DTEND;TZID=Europe/London:20260426T110000
DTSTAMP:20260421T154934Z
UID:4265182026-04-26 10:00:00+01:00achurchnearyou
CATEGORIES:
DESCRIPTION:Eucharist is held each Sunday morning. We have a risk assessme
 nt in place to ensure that our Eucharist Service is Covid Secure.
GEO:-2.537719;53.498439
LOCATION:St Peter's
URL:https://www.achurchnearyou.com/church/16087/service-and-events/events/
 426518/
END:VEVENT
BEGIN:VEVENT
SUMMARY:Sunday Eucharist
DTSTART;TZID=Europe/London:20260517T100000
DTEND;TZID=Europe/London:20260517T110000
DTSTAMP:20260421T154934Z
UID:4265182026-05-17 10:00:00+01:00achurchnearyou
CATEGORIES:
DESCRIPTION:Eucharist is held each Sunday morning. We have a risk assessme
 nt in place to ensure that our Eucharist Service is Covid Secure.
GEO:-2.537719;53.498439
LOCATION:St Peter's
URL:https://www.achurchnearyou.com/church/16087/service-and-events/events/
 426518/
END:VEVENT
BEGIN:VEVENT
SUMMARY:Sunday Eucharist
DTSTART;TZID=Europe/London:20260524T100000
DTEND;TZID=Europe/London:20260524T110000
DTSTAMP:20260421T154934Z
UID:4265182026-05-24 10:00:00+01:00achurchnearyou
CATEGORIES:
DESCRIPTION:Eucharist is held each Sunday morning. We have a risk assessme
 nt in place to ensure that our Eucharist Service is Covid Secure.
GEO:-2.537719;53.498439
LOCATION:St Peter's
URL:https://www.achurchnearyou.com/church/16087/service-and-events/events/
 426518/
END:VEVENT
BEGIN:VEVENT
SUMMARY:Sunday Eucharist
DTSTART;TZID=Europe/London:20260531T100000
DTEND;TZID=Europe/London:20260531T110000
DTSTAMP:20260421T154934Z
UID:4265182026-05-31 10:00:00+01:00achurchnearyou
CATEGORIES:
DESCRIPTION:Eucharist is held each Sunday morning. We have a risk assessme
 nt in place to ensure that our Eucharist Service is Covid Secure.
GEO:-2.537719;53.498439
LOCATION:St Peter's
URL:https://www.achurchnearyou.com/church/16087/service-and-events/events/
 426518/
END:VEVENT
BEGIN:VEVENT
SUMMARY:Sunday Eucharist
DTSTART;TZID=Europe/London:20260621T100000
DTEND;TZID=Europe/London:20260621T110000
DTSTAMP:20260421T154934Z
UID:4265182026-06-21 10:00:00+01:00achurchnearyou
CATEGORIES:
DESCRIPTION:Eucharist is held each Sunday morning. We have a risk assessme
 nt in place to ensure that our Eucharist Service is Covid Secure.
GEO:-2.537719;53.498439
LOCATION:St Peter's
URL:https://www.achurchnearyou.com/church/16087/service-and-events/events/
 426518/
END:VEVENT
BEGIN:VEVENT
SUMMARY:Sunday Eucharist
DTSTART;TZID=Europe/London:20260628T100000
DTEND;TZID=Europe/London:20260628T110000
DTSTAMP:20260421T154934Z
UID:4265182026-06-28 10:00:00+01:00achurchnearyou
CATEGORIES:
DESCRIPTION:Eucharist is held each Sunday morning. We have a risk assessme
 nt in place to ensure that our Eucharist Service is Covid Secure.
GEO:-2.537719;53.498439
LOCATION:St Peter's
URL:https://www.achurchnearyou.com/church/16087/service-and-events/events/
 426518/
END:VEVENT
BEGIN:VEVENT
SUMMARY:Sunday Eucharist
DTSTART;TZID=Europe/London:20260719T100000
DTEND;TZID=Europe/London:20260719T110000
DTSTAMP:20260421T154934Z
UID:4265182026-07-19 10:00:00+01:00achurchnearyou
CATEGORIES:
DESCRIPTION:Eucharist is held each Sunday morning. We have a risk assessme
 nt in place to ensure that our Eucharist Service is Covid Secure.
GEO:-2.537719;53.498439
LOCATION:St Peter's
URL:https://www.achurchnearyou.com/church/16087/service-and-events/events/
 426518/
END:VEVENT
BEGIN:VEVENT
SUMMARY:Sunday Eucharist
DTSTART;TZID=Europe/London:20260726T100000
DTEND;TZID=Europe/London:20260726T110000
DTSTAMP:20260421T154934Z
UID:4265182026-07-26 10:00:00+01:00achurchnearyou
CATEGORIES:
DESCRIPTION:Eucharist is held each Sunday morning. We have a risk assessme
 nt in place to ensure that our Eucharist Service is Covid Secure.
GEO:-2.537719;53.498439
LOCATION:St Peter's
URL:https://www.achurchnearyou.com/church/16087/service-and-events/events/
 426518/
END:VEVENT
BEGIN:VEVENT
SUMMARY:Sunday Eucharist
DTSTART;TZID=Europe/London:20260816T100000
DTEND;TZID=Europe/London:20260816T110000
DTSTAMP:20260421T154934Z
UID:4265182026-08-16 10:00:00+01:00achurchnearyou
CATEGORIES:
DESCRIPTION:Eucharist is held each Sunday morning. We have a risk assessme
 nt in place to ensure that our Eucharist Service is Covid Secure.
GEO:-2.537719;53.498439
LOCATION:St Peter's
URL:https://www.achurchnearyou.com/church/16087/service-and-events/events/
 426518/
END:VEVENT
BEGIN:VEVENT
SUMMARY:Sunday Eucharist
DTSTART;TZID=Europe/London:20260823T100000
DTEND;TZID=Europe/London:20260823T110000
DTSTAMP:20260421T154934Z
UID:4265182026-08-23 10:00:00+01:00achurchnearyou
CATEGORIES:
DESCRIPTION:Eucharist is held each Sunday morning. We have a risk assessme
 nt in place to ensure that our Eucharist Service is Covid Secure.
GEO:-2.537719;53.498439
LOCATION:St Peter's
URL:https://www.achurchnearyou.com/church/16087/service-and-events/events/
 426518/
END:VEVENT
BEGIN:VEVENT
SUMMARY:Sunday Eucharist
DTSTART;TZID=Europe/London:20260830T100000
DTEND;TZID=Europe/London:20260830T110000
DTSTAMP:20260421T154934Z
UID:4265182026-08-30 10:00:00+01:00achurchnearyou
CATEGORIES:
DESCRIPTION:Eucharist is held each Sunday morning. We have a risk assessme
 nt in place to ensure that our Eucharist Service is Covid Secure.
GEO:-2.537719;53.498439
LOCATION:St Peter's
URL:https://www.achurchnearyou.com/church/16087/service-and-events/events/
 426518/
END:VEVENT
BEGIN:VEVENT
SUMMARY:Sunday Eucharist
DTSTART;TZID=Europe/London:20260920T100000
DTEND;TZID=Europe/London:20260920T110000
DTSTAMP:20260421T154934Z
UID:4265182026-09-20 10:00:00+01:00achurchnearyou
CATEGORIES:
DESCRIPTION:Eucharist is held each Sunday morning. We have a risk assessme
 nt in place to ensure that our Eucharist Service is Covid Secure.
GEO:-2.537719;53.498439
LOCATION:St Peter's
URL:https://www.achurchnearyou.com/church/16087/service-and-events/events/
 426518/
END:VEVENT
BEGIN:VEVENT
SUMMARY:Sunday Eucharist
DTSTART;TZID=Europe/London:20260927T100000
DTEND;TZID=Europe/London:20260927T110000
DTSTAMP:20260421T154934Z
UID:4265182026-09-27 10:00:00+01:00achurchnearyou
CATEGORIES:
DESCRIPTION:Eucharist is held each Sunday morning. We have a risk assessme
 nt in place to ensure that our Eucharist Service is Covid Secure.
GEO:-2.537719;53.498439
LOCATION:St Peter's
URL:https://www.achurchnearyou.com/church/16087/service-and-events/events/
 426518/
END:VEVENT
BEGIN:VEVENT
SUMMARY:Sunday Eucharist
DTSTART;TZID=Europe/London:20261018T100000
DTEND;TZID=Europe/London:20261018T110000
DTSTAMP:20260421T154934Z
UID:4265182026-10-18 10:00:00+01:00achurchnearyou
CATEGORIES:
DESCRIPTION:Eucharist is held each Sunday morning. We have a risk assessme
 nt in place to ensure that our Eucharist Service is Covid Secure.
GEO:-2.537719;53.498439
LOCATION:St Peter's
URL:https://www.achurchnearyou.com/church/16087/service-and-events/events/
 426518/
END:VEVENT
BEGIN:VEVENT
SUMMARY:Sunday Eucharist
DTSTART;TZID=Europe/London:20261025T100000
DTEND;TZID=Europe/London:20261025T110000
DTSTAMP:20260421T154934Z
UID:4265182026-10-25 10:00:00+00:00achurchnearyou
CATEGORIES:
DESCRIPTION:Eucharist is held each Sunday morning. We have a risk assessme
 nt in place to ensure that our Eucharist Service is Covid Secure.
GEO:-2.537719;53.498439
LOCATION:St Peter's
URL:https://www.achurchnearyou.com/church/16087/service-and-events/events/
 426518/
END:VEVENT
BEGIN:VEVENT
SUMMARY:Sunday Eucharist
DTSTART;TZID=Europe/London:20261115T100000
DTEND;TZID=Europe/London:20261115T110000
DTSTAMP:20260421T154934Z
UID:4265182026-11-15 10:00:00+00:00achurchnearyou
CATEGORIES:
DESCRIPTION:Eucharist is held each Sunday morning. We have a risk assessme
 nt in place to ensure that our Eucharist Service is Covid Secure.
GEO:-2.537719;53.498439
LOCATION:St Peter's
URL:https://www.achurchnearyou.com/church/16087/service-and-events/events/
 426518/
END:VEVENT
BEGIN:VEVENT
SUMMARY:Sunday Eucharist
DTSTART;TZID=Europe/London:20261122T100000
DTEND;TZID=Europe/London:20261122T110000
DTSTAMP:20260421T154934Z
UID:4265182026-11-22 10:00:00+00:00achurchnearyou
CATEGORIES:
DESCRIPTION:Eucharist is held each Sunday morning. We have a risk assessme
 nt in place to ensure that our Eucharist Service is Covid Secure.
GEO:-2.537719;53.498439
LOCATION:St Peter's
URL:https://www.achurchnearyou.com/church/16087/service-and-events/events/
 426518/
END:VEVENT
BEGIN:VEVENT
SUMMARY:Sunday Eucharist
DTSTART;TZID=Europe/London:20261129T100000
DTEND;TZID=Europe/London:20261129T110000
DTSTAMP:20260421T154934Z
UID:4265182026-11-29 10:00:00+00:00achurchnearyou
CATEGORIES:
DESCRIPTION:Eucharist is held each Sunday morning. We have a risk assessme
 nt in place to ensure that our Eucharist Service is Covid Secure.
GEO:-2.537719;53.498439
LOCATION:St Peter's
URL:https://www.achurchnearyou.com/church/16087/service-and-events/events/
 426518/
END:VEVENT
BEGIN:VEVENT
SUMMARY:Sunday Eucharist
DTSTART;TZID=Europe/London:20261220T100000
DTEND;TZID=Europe/London:20261220T110000
DTSTAMP:20260421T154934Z
UID:4265182026-12-20 10:00:00+00:00achurchnearyou
CATEGORIES:
DESCRIPTION:Eucharist is held each Sunday morning. We have a risk assessme
 nt in place to ensure that our Eucharist Service is Covid Secure.
GEO:-2.537719;53.498439
LOCATION:St Peter's
URL:https://www.achurchnearyou.com/church/16087/service-and-events/events/
 426518/
END:VEVENT
BEGIN:VEVENT
SUMMARY:Sunday Eucharist
DTSTART;TZID=Europe/London:20261227T100000
DTEND;TZID=Europe/London:20261227T110000
DTSTAMP:20260421T154934Z
UID:4265182026-12-27 10:00:00+00:00achurchnearyou
CATEGORIES:
DESCRIPTION:Eucharist is held each Sunday morning. We have a risk assessme
 nt in place to ensure that our Eucharist Service is Covid Secure.
GEO:-2.537719;53.498439
LOCATION:St Peter's
URL:https://www.achurchnearyou.com/church/16087/service-and-events/events/
 426518/
END:VEVENT
BEGIN:VEVENT
SUMMARY:Sunday Eucharist
DTSTART;TZID=Europe/London:20270117T100000
DTEND;TZID=Europe/London:20270117T110000
DTSTAMP:20260421T154934Z
UID:4265182027-01-17 10:00:00+00:00achurchnearyou
CATEGORIES:
DESCRIPTION:Eucharist is held each Sunday morning. We have a risk assessme
 nt in place to ensure that our Eucharist Service is Covid Secure.
GEO:-2.537719;53.498439
LOCATION:St Peter's
URL:https://www.achurchnearyou.com/church/16087/service-and-events/events/
 426518/
END:VEVENT
BEGIN:VEVENT
SUMMARY:Sunday Eucharist
DTSTART;TZID=Europe/London:20270124T100000
DTEND;TZID=Europe/London:20270124T110000
DTSTAMP:20260421T154934Z
UID:4265182027-01-24 10:00:00+00:00achurchnearyou
CATEGORIES:
DESCRIPTION:Eucharist is held each Sunday morning. We have a risk assessme
 nt in place to ensure that our Eucharist Service is Covid Secure.
GEO:-2.537719;53.498439
LOCATION:St Peter's
URL:https://www.achurchnearyou.com/church/16087/service-and-events/events/
 426518/
END:VEVENT
BEGIN:VEVENT
SUMMARY:Sunday Eucharist
DTSTART;TZID=Europe/London:20270131T100000
DTEND;TZID=Europe/London:20270131T110000
DTSTAMP:20260421T154934Z
UID:4265182027-01-31 10:00:00+00:00achurchnearyou
CATEGORIES:
DESCRIPTION:Eucharist is held each Sunday morning. We have a risk assessme
 nt in place to ensure that our Eucharist Service is Covid Secure.
GEO:-2.537719;53.498439
LOCATION:St Peter's
URL:https://www.achurchnearyou.com/church/16087/service-and-events/events/
 426518/
END:VEVENT
BEGIN:VEVENT
SUMMARY:Sunday Eucharist
DTSTART;TZID=Europe/London:20270221T100000
DTEND;TZID=Europe/London:20270221T110000
DTSTAMP:20260421T154934Z
UID:4265182027-02-21 10:00:00+00:00achurchnearyou
CATEGORIES:
DESCRIPTION:Eucharist is held each Sunday morning. We have a risk assessme
 nt in place to ensure that our Eucharist Service is Covid Secure.
GEO:-2.537719;53.498439
LOCATION:St Peter's
URL:https://www.achurchnearyou.com/church/16087/service-and-events/events/
 426518/
END:VEVENT
BEGIN:VEVENT
SUMMARY:Sunday Eucharist
DTSTART;TZID=Europe/London:20270228T100000
DTEND;TZID=Europe/London:20270228T110000
DTSTAMP:20260421T154934Z
UID:4265182027-02-28 10:00:00+00:00achurchnearyou
CATEGORIES:
DESCRIPTION:Eucharist is held each Sunday morning. We have a risk assessme
 nt in place to ensure that our Eucharist Service is Covid Secure.
GEO:-2.537719;53.498439
LOCATION:St Peter's
URL:https://www.achurchnearyou.com/church/16087/service-and-events/events/
 426518/
END:VEVENT
BEGIN:VEVENT
SUMMARY:Sunday Eucharist
DTSTART;TZID=Europe/London:20270321T100000
DTEND;TZID=Europe/London:20270321T110000
DTSTAMP:20260421T154934Z
UID:4265182027-03-21 10:00:00+00:00achurchnearyou
CATEGORIES:
DESCRIPTION:Eucharist is held each Sunday morning. We have a risk assessme
 nt in place to ensure that our Eucharist Service is Covid Secure.
GEO:-2.537719;53.498439
LOCATION:St Peter's
URL:https://www.achurchnearyou.com/church/16087/service-and-events/events/
 426518/
END:VEVENT
BEGIN:VEVENT
SUMMARY:Sunday Eucharist
DTSTART;TZID=Europe/London:20270328T100000
DTEND;TZID=Europe/London:20270328T110000
DTSTAMP:20260421T154934Z
UID:4265182027-03-28 10:00:00+01:00achurchnearyou
CATEGORIES:
DESCRIPTION:Eucharist is held each Sunday morning. We have a risk assessme
 nt in place to ensure that our Eucharist Service is Covid Secure.
GEO:-2.537719;53.498439
LOCATION:St Peter's
URL:https://www.achurchnearyou.com/church/16087/service-and-events/events/
 426518/
END:VEVENT
BEGIN:VEVENT
SUMMARY:Sunday Eucharist
DTSTART;TZID=Europe/London:20270418T100000
DTEND;TZID=Europe/London:20270418T110000
DTSTAMP:20260421T154934Z
UID:4265182027-04-18 10:00:00+01:00achurchnearyou
CATEGORIES:
DESCRIPTION:Eucharist is held each Sunday morning. We have a risk assessme
 nt in place to ensure that our Eucharist Service is Covid Secure.
GEO:-2.537719;53.498439
LOCATION:St Peter's
URL:https://www.achurchnearyou.com/church/16087/service-and-events/events/
 426518/
END:VEVENT
END:VCALENDAR
