BEGIN:VCALENDAR
VERSION:2.0
PRODID:-//achurchnearyou.com//eventfeed//EN
CALSCALE:GREGORIAN
METHOD:PUBLISH
X-WR-TIMEZONE:UTC
BEGIN:VEVENT
SUMMARY:Carol Service
DTSTART:20251214T180000Z
DTEND:20251214T190000Z
DTSTAMP:20260424T174008Z
UID:12517452025-12-14 18:00:00+00:00achurchnearyou
CATEGORIES:
DESCRIPTION:A traditional carol service with readings and choir.
GEO:-2.269683;53.537021
LOCATION:St Margaret
URL:https://www.achurchnearyou.com/church/16092/service-and-events/events/
 1251745/
END:VEVENT
END:VCALENDAR
