BEGIN:VCALENDAR
VERSION:2.0
PRODID:-//achurchnearyou.com//eventfeed//EN
CALSCALE:GREGORIAN
METHOD:PUBLISH
X-WR-TIMEZONE:UTC
BEGIN:VEVENT
SUMMARY:All-Age Family Freindly Service
DTSTART;TZID=Europe/London:20260510T103000
DTEND;TZID=Europe/London:20260510T113000
DTSTAMP:20260420T001730Z
UID:6434862026-05-10 10:30:00+01:00achurchnearyou
CATEGORIES:
DESCRIPTION:This is a shorter more informal style of service. Children are
  encouraged to help to lead this service. It is usually interactive and fu
 n
GEO:-2.392842;53.582118
LOCATION:St James\, Breightmet
URL:https://www.achurchnearyou.com/church/16117/service-and-events/events/
 643486/
END:VEVENT
BEGIN:VEVENT
SUMMARY:All-Age Family Freindly Service
DTSTART;TZID=Europe/London:20260614T103000
DTEND;TZID=Europe/London:20260614T113000
DTSTAMP:20260420T001730Z
UID:6434862026-06-14 10:30:00+01:00achurchnearyou
CATEGORIES:
DESCRIPTION:This is a shorter more informal style of service. Children are
  encouraged to help to lead this service. It is usually interactive and fu
 n
GEO:-2.392842;53.582118
LOCATION:St James\, Breightmet
URL:https://www.achurchnearyou.com/church/16117/service-and-events/events/
 643486/
END:VEVENT
BEGIN:VEVENT
SUMMARY:All-Age Family Freindly Service
DTSTART;TZID=Europe/London:20260712T103000
DTEND;TZID=Europe/London:20260712T113000
DTSTAMP:20260420T001730Z
UID:6434862026-07-12 10:30:00+01:00achurchnearyou
CATEGORIES:
DESCRIPTION:This is a shorter more informal style of service. Children are
  encouraged to help to lead this service. It is usually interactive and fu
 n
GEO:-2.392842;53.582118
LOCATION:St James\, Breightmet
URL:https://www.achurchnearyou.com/church/16117/service-and-events/events/
 643486/
END:VEVENT
BEGIN:VEVENT
SUMMARY:All-Age Family Freindly Service
DTSTART;TZID=Europe/London:20260809T103000
DTEND;TZID=Europe/London:20260809T113000
DTSTAMP:20260420T001730Z
UID:6434862026-08-09 10:30:00+01:00achurchnearyou
CATEGORIES:
DESCRIPTION:This is a shorter more informal style of service. Children are
  encouraged to help to lead this service. It is usually interactive and fu
 n
GEO:-2.392842;53.582118
LOCATION:St James\, Breightmet
URL:https://www.achurchnearyou.com/church/16117/service-and-events/events/
 643486/
END:VEVENT
BEGIN:VEVENT
SUMMARY:All-Age Family Freindly Service
DTSTART;TZID=Europe/London:20260913T103000
DTEND;TZID=Europe/London:20260913T113000
DTSTAMP:20260420T001730Z
UID:6434862026-09-13 10:30:00+01:00achurchnearyou
CATEGORIES:
DESCRIPTION:This is a shorter more informal style of service. Children are
  encouraged to help to lead this service. It is usually interactive and fu
 n
GEO:-2.392842;53.582118
LOCATION:St James\, Breightmet
URL:https://www.achurchnearyou.com/church/16117/service-and-events/events/
 643486/
END:VEVENT
BEGIN:VEVENT
SUMMARY:All-Age Family Freindly Service
DTSTART;TZID=Europe/London:20261011T103000
DTEND;TZID=Europe/London:20261011T113000
DTSTAMP:20260420T001730Z
UID:6434862026-10-11 10:30:00+01:00achurchnearyou
CATEGORIES:
DESCRIPTION:This is a shorter more informal style of service. Children are
  encouraged to help to lead this service. It is usually interactive and fu
 n
GEO:-2.392842;53.582118
LOCATION:St James\, Breightmet
URL:https://www.achurchnearyou.com/church/16117/service-and-events/events/
 643486/
END:VEVENT
BEGIN:VEVENT
SUMMARY:All-Age Family Freindly Service
DTSTART;TZID=Europe/London:20261108T103000
DTEND;TZID=Europe/London:20261108T113000
DTSTAMP:20260420T001730Z
UID:6434862026-11-08 10:30:00+00:00achurchnearyou
CATEGORIES:
DESCRIPTION:This is a shorter more informal style of service. Children are
  encouraged to help to lead this service. It is usually interactive and fu
 n
GEO:-2.392842;53.582118
LOCATION:St James\, Breightmet
URL:https://www.achurchnearyou.com/church/16117/service-and-events/events/
 643486/
END:VEVENT
BEGIN:VEVENT
SUMMARY:All-Age Family Freindly Service
DTSTART;TZID=Europe/London:20261213T103000
DTEND;TZID=Europe/London:20261213T113000
DTSTAMP:20260420T001730Z
UID:6434862026-12-13 10:30:00+00:00achurchnearyou
CATEGORIES:
DESCRIPTION:This is a shorter more informal style of service. Children are
  encouraged to help to lead this service. It is usually interactive and fu
 n
GEO:-2.392842;53.582118
LOCATION:St James\, Breightmet
URL:https://www.achurchnearyou.com/church/16117/service-and-events/events/
 643486/
END:VEVENT
BEGIN:VEVENT
SUMMARY:All-Age Family Freindly Service
DTSTART;TZID=Europe/London:20270110T103000
DTEND;TZID=Europe/London:20270110T113000
DTSTAMP:20260420T001730Z
UID:6434862027-01-10 10:30:00+00:00achurchnearyou
CATEGORIES:
DESCRIPTION:This is a shorter more informal style of service. Children are
  encouraged to help to lead this service. It is usually interactive and fu
 n
GEO:-2.392842;53.582118
LOCATION:St James\, Breightmet
URL:https://www.achurchnearyou.com/church/16117/service-and-events/events/
 643486/
END:VEVENT
BEGIN:VEVENT
SUMMARY:All-Age Family Freindly Service
DTSTART;TZID=Europe/London:20270214T103000
DTEND;TZID=Europe/London:20270214T113000
DTSTAMP:20260420T001730Z
UID:6434862027-02-14 10:30:00+00:00achurchnearyou
CATEGORIES:
DESCRIPTION:This is a shorter more informal style of service. Children are
  encouraged to help to lead this service. It is usually interactive and fu
 n
GEO:-2.392842;53.582118
LOCATION:St James\, Breightmet
URL:https://www.achurchnearyou.com/church/16117/service-and-events/events/
 643486/
END:VEVENT
BEGIN:VEVENT
SUMMARY:All-Age Family Freindly Service
DTSTART;TZID=Europe/London:20270314T103000
DTEND;TZID=Europe/London:20270314T113000
DTSTAMP:20260420T001730Z
UID:6434862027-03-14 10:30:00+00:00achurchnearyou
CATEGORIES:
DESCRIPTION:This is a shorter more informal style of service. Children are
  encouraged to help to lead this service. It is usually interactive and fu
 n
GEO:-2.392842;53.582118
LOCATION:St James\, Breightmet
URL:https://www.achurchnearyou.com/church/16117/service-and-events/events/
 643486/
END:VEVENT
BEGIN:VEVENT
SUMMARY:All-Age Family Freindly Service
DTSTART;TZID=Europe/London:20270411T103000
DTEND;TZID=Europe/London:20270411T113000
DTSTAMP:20260420T001730Z
UID:6434862027-04-11 10:30:00+01:00achurchnearyou
CATEGORIES:
DESCRIPTION:This is a shorter more informal style of service. Children are
  encouraged to help to lead this service. It is usually interactive and fu
 n
GEO:-2.392842;53.582118
LOCATION:St James\, Breightmet
URL:https://www.achurchnearyou.com/church/16117/service-and-events/events/
 643486/
END:VEVENT
END:VCALENDAR
