BEGIN:VCALENDAR
VERSION:2.0
PRODID:-//achurchnearyou.com//eventfeed//EN
CALSCALE:GREGORIAN
METHOD:PUBLISH
X-WR-TIMEZONE:UTC
BEGIN:VEVENT
SUMMARY:Stations of the Cross
DTSTART:20250418T100000Z
DTEND:20250418T110000Z
DTSTAMP:20260422T021834Z
UID:11834702025-04-18 10:00:00+00:00achurchnearyou
CATEGORIES:
DESCRIPTION:Good Friday
GEO:-2.403055;53.637174
LOCATION:St Anne's Church\, Turton
URL:https://www.achurchnearyou.com/church/16118/service-and-events/events/
 1183470/
END:VEVENT
END:VCALENDAR
