BEGIN:VCALENDAR
VERSION:2.0
PRODID:-//achurchnearyou.com//eventfeed//EN
CALSCALE:GREGORIAN
METHOD:PUBLISH
X-WR-TIMEZONE:UTC
BEGIN:VEVENT
SUMMARY:Christmas Eve Service
DTSTART:20251224T230000Z
DTEND:20251225T001500Z
DTSTAMP:20260421T104645Z
UID:12628362025-12-24 23:00:00+00:00achurchnearyou
CATEGORIES:
DESCRIPTION:Come and join us to see in Christmas day
GEO:-2.403055;53.637174
LOCATION:St Anne's Church\, Turton
URL:https://www.achurchnearyou.com/church/16118/service-and-events/events/
 1262836/
END:VEVENT
END:VCALENDAR
