BEGIN:VCALENDAR
VERSION:2.0
PRODID:-//achurchnearyou.com//eventfeed//EN
CALSCALE:GREGORIAN
METHOD:PUBLISH
X-WR-TIMEZONE:UTC
BEGIN:VEVENT
SUMMARY:Wednesday Holy Communion
DTSTART;TZID=Europe/London:20260401T093000
DTEND;TZID=Europe/London:20260401T101500
DTSTAMP:20260421T005848Z
UID:6737041775032200.0achurchnearyou
CATEGORIES:
DESCRIPTION:Book of Common Prayer - said service - a service of quiet and 
 reflection in the middle of the week in this beautiful and peaceful church
 .
GEO:-2.403055;53.637174
LOCATION:St Anne's Church\, Turton
URL:https://www.achurchnearyou.com/church/16118/service-and-events/events/
 673704/
END:VEVENT
BEGIN:VEVENT
SUMMARY:Sunday Holy Communion
DTSTART;TZID=Europe/London:20260405T110000
DTEND;TZID=Europe/London:20260405T120000
DTSTAMP:20260421T005848Z
UID:11834671775383200.0achurchnearyou
CATEGORIES:
DESCRIPTION:Every Sunday at 11.00 am.  No service on 19th April as there w
 ill be a Team Service at Canon Slade School run by Turton Youth Team.  All
  welcome.  10.00 am.
GEO:-2.403055;53.637174
LOCATION:St Anne's Church\, Turton
URL:https://www.achurchnearyou.com/church/16118/service-and-events/events/
 1183467/
END:VEVENT
BEGIN:VEVENT
SUMMARY:Wednesday Holy Communion
DTSTART;TZID=Europe/London:20260408T093000
DTEND;TZID=Europe/London:20260408T101500
DTSTAMP:20260421T005848Z
UID:6737041775637000.0achurchnearyou
CATEGORIES:
DESCRIPTION:Book of Common Prayer - said service - a service of quiet and 
 reflection in the middle of the week in this beautiful and peaceful church
 .
GEO:-2.403055;53.637174
LOCATION:St Anne's Church\, Turton
URL:https://www.achurchnearyou.com/church/16118/service-and-events/events/
 673704/
END:VEVENT
BEGIN:VEVENT
SUMMARY:Sunday Holy Communion
DTSTART;TZID=Europe/London:20260412T110000
DTEND;TZID=Europe/London:20260412T120000
DTSTAMP:20260421T005848Z
UID:11834671775988000.0achurchnearyou
CATEGORIES:
DESCRIPTION:Every Sunday at 11.00 am.  No service on 19th April as there w
 ill be a Team Service at Canon Slade School run by Turton Youth Team.  All
  welcome.  10.00 am.
GEO:-2.403055;53.637174
LOCATION:St Anne's Church\, Turton
URL:https://www.achurchnearyou.com/church/16118/service-and-events/events/
 1183467/
END:VEVENT
BEGIN:VEVENT
SUMMARY:Wednesday Holy Communion
DTSTART;TZID=Europe/London:20260415T093000
DTEND;TZID=Europe/London:20260415T101500
DTSTAMP:20260421T005848Z
UID:6737041776241800.0achurchnearyou
CATEGORIES:
DESCRIPTION:Book of Common Prayer - said service - a service of quiet and 
 reflection in the middle of the week in this beautiful and peaceful church
 .
GEO:-2.403055;53.637174
LOCATION:St Anne's Church\, Turton
URL:https://www.achurchnearyou.com/church/16118/service-and-events/events/
 673704/
END:VEVENT
BEGIN:VEVENT
SUMMARY:Sunday Holy Communion
DTSTART;TZID=Europe/London:20260419T110000
DTEND;TZID=Europe/London:20260419T120000
DTSTAMP:20260421T005848Z
UID:11834671776592800.0achurchnearyou
CATEGORIES:
DESCRIPTION:Every Sunday at 11.00 am.  No service on 19th April as there w
 ill be a Team Service at Canon Slade School run by Turton Youth Team.  All
  welcome.  10.00 am.
GEO:-2.403055;53.637174
LOCATION:St Anne's Church\, Turton
URL:https://www.achurchnearyou.com/church/16118/service-and-events/events/
 1183467/
END:VEVENT
BEGIN:VEVENT
SUMMARY:Wednesday Holy Communion
DTSTART;TZID=Europe/London:20260422T093000
DTEND;TZID=Europe/London:20260422T101500
DTSTAMP:20260421T005848Z
UID:6737041776846600.0achurchnearyou
CATEGORIES:
DESCRIPTION:Book of Common Prayer - said service - a service of quiet and 
 reflection in the middle of the week in this beautiful and peaceful church
 .
GEO:-2.403055;53.637174
LOCATION:St Anne's Church\, Turton
URL:https://www.achurchnearyou.com/church/16118/service-and-events/events/
 673704/
END:VEVENT
BEGIN:VEVENT
SUMMARY:Sunday Holy Communion
DTSTART;TZID=Europe/London:20260426T110000
DTEND;TZID=Europe/London:20260426T120000
DTSTAMP:20260421T005848Z
UID:11834671777197600.0achurchnearyou
CATEGORIES:
DESCRIPTION:Every Sunday at 11.00 am.  No service on 19th April as there w
 ill be a Team Service at Canon Slade School run by Turton Youth Team.  All
  welcome.  10.00 am.
GEO:-2.403055;53.637174
LOCATION:St Anne's Church\, Turton
URL:https://www.achurchnearyou.com/church/16118/service-and-events/events/
 1183467/
END:VEVENT
BEGIN:VEVENT
SUMMARY:Lucia Strings
DTSTART;TZID=Europe/London:20260426T153000
DTEND;TZID=Europe/London:20260426T171500
DTSTAMP:20260421T005848Z
UID:13232011777213800.0achurchnearyou
CATEGORIES:
DESCRIPTION:A concert by this distinguished sextet.  Not to be missed. Fin
 d lots more info on the News and Notices tab.
GEO:-2.403055;53.637174
LOCATION:St Anne's Church\, Turton
URL:https://www.achurchnearyou.com/church/16118/service-and-events/events/
 1323201/
END:VEVENT
BEGIN:VEVENT
SUMMARY:Wednesday Holy Communion
DTSTART;TZID=Europe/London:20260429T093000
DTEND;TZID=Europe/London:20260429T101500
DTSTAMP:20260421T005848Z
UID:6737041777451400.0achurchnearyou
CATEGORIES:
DESCRIPTION:Book of Common Prayer - said service - a service of quiet and 
 reflection in the middle of the week in this beautiful and peaceful church
 .
GEO:-2.403055;53.637174
LOCATION:St Anne's Church\, Turton
URL:https://www.achurchnearyou.com/church/16118/service-and-events/events/
 673704/
END:VEVENT
BEGIN:VEVENT
SUMMARY:Sunday Holy Communion
DTSTART;TZID=Europe/London:20260503T110000
DTEND;TZID=Europe/London:20260503T120000
DTSTAMP:20260421T005848Z
UID:11834671777802400.0achurchnearyou
CATEGORIES:
DESCRIPTION:Every Sunday at 11.00 am.  No service on 19th April as there w
 ill be a Team Service at Canon Slade School run by Turton Youth Team.  All
  welcome.  10.00 am.
GEO:-2.403055;53.637174
LOCATION:St Anne's Church\, Turton
URL:https://www.achurchnearyou.com/church/16118/service-and-events/events/
 1183467/
END:VEVENT
BEGIN:VEVENT
SUMMARY:Wednesday Holy Communion
DTSTART;TZID=Europe/London:20260506T093000
DTEND;TZID=Europe/London:20260506T101500
DTSTAMP:20260421T005848Z
UID:6737041778056200.0achurchnearyou
CATEGORIES:
DESCRIPTION:Book of Common Prayer - said service - a service of quiet and 
 reflection in the middle of the week in this beautiful and peaceful church
 .
GEO:-2.403055;53.637174
LOCATION:St Anne's Church\, Turton
URL:https://www.achurchnearyou.com/church/16118/service-and-events/events/
 673704/
END:VEVENT
BEGIN:VEVENT
SUMMARY:Sunday Holy Communion
DTSTART;TZID=Europe/London:20260510T110000
DTEND;TZID=Europe/London:20260510T120000
DTSTAMP:20260421T005848Z
UID:11834671778407200.0achurchnearyou
CATEGORIES:
DESCRIPTION:Every Sunday at 11.00 am.  No service on 19th April as there w
 ill be a Team Service at Canon Slade School run by Turton Youth Team.  All
  welcome.  10.00 am.
GEO:-2.403055;53.637174
LOCATION:St Anne's Church\, Turton
URL:https://www.achurchnearyou.com/church/16118/service-and-events/events/
 1183467/
END:VEVENT
BEGIN:VEVENT
SUMMARY:Wednesday Holy Communion
DTSTART;TZID=Europe/London:20260513T093000
DTEND;TZID=Europe/London:20260513T101500
DTSTAMP:20260421T005848Z
UID:6737041778661000.0achurchnearyou
CATEGORIES:
DESCRIPTION:Book of Common Prayer - said service - a service of quiet and 
 reflection in the middle of the week in this beautiful and peaceful church
 .
GEO:-2.403055;53.637174
LOCATION:St Anne's Church\, Turton
URL:https://www.achurchnearyou.com/church/16118/service-and-events/events/
 673704/
END:VEVENT
BEGIN:VEVENT
SUMMARY:Sunday Holy Communion
DTSTART;TZID=Europe/London:20260517T110000
DTEND;TZID=Europe/London:20260517T120000
DTSTAMP:20260421T005848Z
UID:11834671779012000.0achurchnearyou
CATEGORIES:
DESCRIPTION:Every Sunday at 11.00 am.  No service on 19th April as there w
 ill be a Team Service at Canon Slade School run by Turton Youth Team.  All
  welcome.  10.00 am.
GEO:-2.403055;53.637174
LOCATION:St Anne's Church\, Turton
URL:https://www.achurchnearyou.com/church/16118/service-and-events/events/
 1183467/
END:VEVENT
BEGIN:VEVENT
SUMMARY:Wednesday Holy Communion
DTSTART;TZID=Europe/London:20260520T093000
DTEND;TZID=Europe/London:20260520T101500
DTSTAMP:20260421T005848Z
UID:6737041779265800.0achurchnearyou
CATEGORIES:
DESCRIPTION:Book of Common Prayer - said service - a service of quiet and 
 reflection in the middle of the week in this beautiful and peaceful church
 .
GEO:-2.403055;53.637174
LOCATION:St Anne's Church\, Turton
URL:https://www.achurchnearyou.com/church/16118/service-and-events/events/
 673704/
END:VEVENT
BEGIN:VEVENT
SUMMARY:Sunday Holy Communion
DTSTART;TZID=Europe/London:20260524T110000
DTEND;TZID=Europe/London:20260524T120000
DTSTAMP:20260421T005848Z
UID:11834671779616800.0achurchnearyou
CATEGORIES:
DESCRIPTION:Every Sunday at 11.00 am.  No service on 19th April as there w
 ill be a Team Service at Canon Slade School run by Turton Youth Team.  All
  welcome.  10.00 am.
GEO:-2.403055;53.637174
LOCATION:St Anne's Church\, Turton
URL:https://www.achurchnearyou.com/church/16118/service-and-events/events/
 1183467/
END:VEVENT
BEGIN:VEVENT
SUMMARY:Wednesday Holy Communion
DTSTART;TZID=Europe/London:20260527T093000
DTEND;TZID=Europe/London:20260527T101500
DTSTAMP:20260421T005848Z
UID:6737041779870600.0achurchnearyou
CATEGORIES:
DESCRIPTION:Book of Common Prayer - said service - a service of quiet and 
 reflection in the middle of the week in this beautiful and peaceful church
 .
GEO:-2.403055;53.637174
LOCATION:St Anne's Church\, Turton
URL:https://www.achurchnearyou.com/church/16118/service-and-events/events/
 673704/
END:VEVENT
BEGIN:VEVENT
SUMMARY:Sunday Holy Communion
DTSTART;TZID=Europe/London:20260531T110000
DTEND;TZID=Europe/London:20260531T120000
DTSTAMP:20260421T005848Z
UID:11834671780221600.0achurchnearyou
CATEGORIES:
DESCRIPTION:Every Sunday at 11.00 am.  No service on 19th April as there w
 ill be a Team Service at Canon Slade School run by Turton Youth Team.  All
  welcome.  10.00 am.
GEO:-2.403055;53.637174
LOCATION:St Anne's Church\, Turton
URL:https://www.achurchnearyou.com/church/16118/service-and-events/events/
 1183467/
END:VEVENT
BEGIN:VEVENT
SUMMARY:Wednesday Holy Communion
DTSTART;TZID=Europe/London:20260603T093000
DTEND;TZID=Europe/London:20260603T101500
DTSTAMP:20260421T005848Z
UID:6737041780475400.0achurchnearyou
CATEGORIES:
DESCRIPTION:Book of Common Prayer - said service - a service of quiet and 
 reflection in the middle of the week in this beautiful and peaceful church
 .
GEO:-2.403055;53.637174
LOCATION:St Anne's Church\, Turton
URL:https://www.achurchnearyou.com/church/16118/service-and-events/events/
 673704/
END:VEVENT
BEGIN:VEVENT
SUMMARY:Sunday Holy Communion
DTSTART;TZID=Europe/London:20260607T110000
DTEND;TZID=Europe/London:20260607T120000
DTSTAMP:20260421T005848Z
UID:11834671780826400.0achurchnearyou
CATEGORIES:
DESCRIPTION:Every Sunday at 11.00 am.  No service on 19th April as there w
 ill be a Team Service at Canon Slade School run by Turton Youth Team.  All
  welcome.  10.00 am.
GEO:-2.403055;53.637174
LOCATION:St Anne's Church\, Turton
URL:https://www.achurchnearyou.com/church/16118/service-and-events/events/
 1183467/
END:VEVENT
BEGIN:VEVENT
SUMMARY:Wednesday Holy Communion
DTSTART;TZID=Europe/London:20260610T093000
DTEND;TZID=Europe/London:20260610T101500
DTSTAMP:20260421T005848Z
UID:6737041781080200.0achurchnearyou
CATEGORIES:
DESCRIPTION:Book of Common Prayer - said service - a service of quiet and 
 reflection in the middle of the week in this beautiful and peaceful church
 .
GEO:-2.403055;53.637174
LOCATION:St Anne's Church\, Turton
URL:https://www.achurchnearyou.com/church/16118/service-and-events/events/
 673704/
END:VEVENT
BEGIN:VEVENT
SUMMARY:Sunday Holy Communion
DTSTART;TZID=Europe/London:20260614T110000
DTEND;TZID=Europe/London:20260614T120000
DTSTAMP:20260421T005848Z
UID:11834671781431200.0achurchnearyou
CATEGORIES:
DESCRIPTION:Every Sunday at 11.00 am.  No service on 19th April as there w
 ill be a Team Service at Canon Slade School run by Turton Youth Team.  All
  welcome.  10.00 am.
GEO:-2.403055;53.637174
LOCATION:St Anne's Church\, Turton
URL:https://www.achurchnearyou.com/church/16118/service-and-events/events/
 1183467/
END:VEVENT
BEGIN:VEVENT
SUMMARY:Wednesday Holy Communion
DTSTART;TZID=Europe/London:20260617T093000
DTEND;TZID=Europe/London:20260617T101500
DTSTAMP:20260421T005848Z
UID:6737041781685000.0achurchnearyou
CATEGORIES:
DESCRIPTION:Book of Common Prayer - said service - a service of quiet and 
 reflection in the middle of the week in this beautiful and peaceful church
 .
GEO:-2.403055;53.637174
LOCATION:St Anne's Church\, Turton
URL:https://www.achurchnearyou.com/church/16118/service-and-events/events/
 673704/
END:VEVENT
BEGIN:VEVENT
SUMMARY:Sunday Holy Communion
DTSTART;TZID=Europe/London:20260621T110000
DTEND;TZID=Europe/London:20260621T120000
DTSTAMP:20260421T005848Z
UID:11834671782036000.0achurchnearyou
CATEGORIES:
DESCRIPTION:Every Sunday at 11.00 am.  No service on 19th April as there w
 ill be a Team Service at Canon Slade School run by Turton Youth Team.  All
  welcome.  10.00 am.
GEO:-2.403055;53.637174
LOCATION:St Anne's Church\, Turton
URL:https://www.achurchnearyou.com/church/16118/service-and-events/events/
 1183467/
END:VEVENT
BEGIN:VEVENT
SUMMARY:Wednesday Holy Communion
DTSTART;TZID=Europe/London:20260624T093000
DTEND;TZID=Europe/London:20260624T101500
DTSTAMP:20260421T005848Z
UID:6737041782289800.0achurchnearyou
CATEGORIES:
DESCRIPTION:Book of Common Prayer - said service - a service of quiet and 
 reflection in the middle of the week in this beautiful and peaceful church
 .
GEO:-2.403055;53.637174
LOCATION:St Anne's Church\, Turton
URL:https://www.achurchnearyou.com/church/16118/service-and-events/events/
 673704/
END:VEVENT
BEGIN:VEVENT
SUMMARY:Sunday Holy Communion
DTSTART;TZID=Europe/London:20260628T110000
DTEND;TZID=Europe/London:20260628T120000
DTSTAMP:20260421T005848Z
UID:11834671782640800.0achurchnearyou
CATEGORIES:
DESCRIPTION:Every Sunday at 11.00 am.  No service on 19th April as there w
 ill be a Team Service at Canon Slade School run by Turton Youth Team.  All
  welcome.  10.00 am.
GEO:-2.403055;53.637174
LOCATION:St Anne's Church\, Turton
URL:https://www.achurchnearyou.com/church/16118/service-and-events/events/
 1183467/
END:VEVENT
BEGIN:VEVENT
SUMMARY:Wednesday Holy Communion
DTSTART;TZID=Europe/London:20260701T093000
DTEND;TZID=Europe/London:20260701T101500
DTSTAMP:20260421T005848Z
UID:6737041782894600.0achurchnearyou
CATEGORIES:
DESCRIPTION:Book of Common Prayer - said service - a service of quiet and 
 reflection in the middle of the week in this beautiful and peaceful church
 .
GEO:-2.403055;53.637174
LOCATION:St Anne's Church\, Turton
URL:https://www.achurchnearyou.com/church/16118/service-and-events/events/
 673704/
END:VEVENT
BEGIN:VEVENT
SUMMARY:Sunday Holy Communion
DTSTART;TZID=Europe/London:20260705T110000
DTEND;TZID=Europe/London:20260705T120000
DTSTAMP:20260421T005848Z
UID:11834671783245600.0achurchnearyou
CATEGORIES:
DESCRIPTION:Every Sunday at 11.00 am.  No service on 19th April as there w
 ill be a Team Service at Canon Slade School run by Turton Youth Team.  All
  welcome.  10.00 am.
GEO:-2.403055;53.637174
LOCATION:St Anne's Church\, Turton
URL:https://www.achurchnearyou.com/church/16118/service-and-events/events/
 1183467/
END:VEVENT
BEGIN:VEVENT
SUMMARY:Wednesday Holy Communion
DTSTART;TZID=Europe/London:20260708T093000
DTEND;TZID=Europe/London:20260708T101500
DTSTAMP:20260421T005848Z
UID:6737041783499400.0achurchnearyou
CATEGORIES:
DESCRIPTION:Book of Common Prayer - said service - a service of quiet and 
 reflection in the middle of the week in this beautiful and peaceful church
 .
GEO:-2.403055;53.637174
LOCATION:St Anne's Church\, Turton
URL:https://www.achurchnearyou.com/church/16118/service-and-events/events/
 673704/
END:VEVENT
BEGIN:VEVENT
SUMMARY:Sunday Holy Communion
DTSTART;TZID=Europe/London:20260712T110000
DTEND;TZID=Europe/London:20260712T120000
DTSTAMP:20260421T005848Z
UID:11834671783850400.0achurchnearyou
CATEGORIES:
DESCRIPTION:Every Sunday at 11.00 am.  No service on 19th April as there w
 ill be a Team Service at Canon Slade School run by Turton Youth Team.  All
  welcome.  10.00 am.
GEO:-2.403055;53.637174
LOCATION:St Anne's Church\, Turton
URL:https://www.achurchnearyou.com/church/16118/service-and-events/events/
 1183467/
END:VEVENT
BEGIN:VEVENT
SUMMARY:Wednesday Holy Communion
DTSTART;TZID=Europe/London:20260715T093000
DTEND;TZID=Europe/London:20260715T101500
DTSTAMP:20260421T005848Z
UID:6737041784104200.0achurchnearyou
CATEGORIES:
DESCRIPTION:Book of Common Prayer - said service - a service of quiet and 
 reflection in the middle of the week in this beautiful and peaceful church
 .
GEO:-2.403055;53.637174
LOCATION:St Anne's Church\, Turton
URL:https://www.achurchnearyou.com/church/16118/service-and-events/events/
 673704/
END:VEVENT
BEGIN:VEVENT
SUMMARY:Sunday Holy Communion
DTSTART;TZID=Europe/London:20260719T110000
DTEND;TZID=Europe/London:20260719T120000
DTSTAMP:20260421T005848Z
UID:11834671784455200.0achurchnearyou
CATEGORIES:
DESCRIPTION:Every Sunday at 11.00 am.  No service on 19th April as there w
 ill be a Team Service at Canon Slade School run by Turton Youth Team.  All
  welcome.  10.00 am.
GEO:-2.403055;53.637174
LOCATION:St Anne's Church\, Turton
URL:https://www.achurchnearyou.com/church/16118/service-and-events/events/
 1183467/
END:VEVENT
BEGIN:VEVENT
SUMMARY:Wednesday Holy Communion
DTSTART;TZID=Europe/London:20260722T093000
DTEND;TZID=Europe/London:20260722T101500
DTSTAMP:20260421T005848Z
UID:6737041784709000.0achurchnearyou
CATEGORIES:
DESCRIPTION:Book of Common Prayer - said service - a service of quiet and 
 reflection in the middle of the week in this beautiful and peaceful church
 .
GEO:-2.403055;53.637174
LOCATION:St Anne's Church\, Turton
URL:https://www.achurchnearyou.com/church/16118/service-and-events/events/
 673704/
END:VEVENT
BEGIN:VEVENT
SUMMARY:Sunday Holy Communion
DTSTART;TZID=Europe/London:20260726T110000
DTEND;TZID=Europe/London:20260726T120000
DTSTAMP:20260421T005848Z
UID:11834671785060000.0achurchnearyou
CATEGORIES:
DESCRIPTION:Every Sunday at 11.00 am.  No service on 19th April as there w
 ill be a Team Service at Canon Slade School run by Turton Youth Team.  All
  welcome.  10.00 am.
GEO:-2.403055;53.637174
LOCATION:St Anne's Church\, Turton
URL:https://www.achurchnearyou.com/church/16118/service-and-events/events/
 1183467/
END:VEVENT
BEGIN:VEVENT
SUMMARY:Wednesday Holy Communion
DTSTART;TZID=Europe/London:20260729T093000
DTEND;TZID=Europe/London:20260729T101500
DTSTAMP:20260421T005848Z
UID:6737041785313800.0achurchnearyou
CATEGORIES:
DESCRIPTION:Book of Common Prayer - said service - a service of quiet and 
 reflection in the middle of the week in this beautiful and peaceful church
 .
GEO:-2.403055;53.637174
LOCATION:St Anne's Church\, Turton
URL:https://www.achurchnearyou.com/church/16118/service-and-events/events/
 673704/
END:VEVENT
BEGIN:VEVENT
SUMMARY:Sunday Holy Communion
DTSTART;TZID=Europe/London:20260802T110000
DTEND;TZID=Europe/London:20260802T120000
DTSTAMP:20260421T005848Z
UID:11834671785664800.0achurchnearyou
CATEGORIES:
DESCRIPTION:Every Sunday at 11.00 am.  No service on 19th April as there w
 ill be a Team Service at Canon Slade School run by Turton Youth Team.  All
  welcome.  10.00 am.
GEO:-2.403055;53.637174
LOCATION:St Anne's Church\, Turton
URL:https://www.achurchnearyou.com/church/16118/service-and-events/events/
 1183467/
END:VEVENT
BEGIN:VEVENT
SUMMARY:Wednesday Holy Communion
DTSTART;TZID=Europe/London:20260805T093000
DTEND;TZID=Europe/London:20260805T101500
DTSTAMP:20260421T005848Z
UID:6737041785918600.0achurchnearyou
CATEGORIES:
DESCRIPTION:Book of Common Prayer - said service - a service of quiet and 
 reflection in the middle of the week in this beautiful and peaceful church
 .
GEO:-2.403055;53.637174
LOCATION:St Anne's Church\, Turton
URL:https://www.achurchnearyou.com/church/16118/service-and-events/events/
 673704/
END:VEVENT
BEGIN:VEVENT
SUMMARY:Sunday Holy Communion
DTSTART;TZID=Europe/London:20260809T110000
DTEND;TZID=Europe/London:20260809T120000
DTSTAMP:20260421T005848Z
UID:11834671786269600.0achurchnearyou
CATEGORIES:
DESCRIPTION:Every Sunday at 11.00 am.  No service on 19th April as there w
 ill be a Team Service at Canon Slade School run by Turton Youth Team.  All
  welcome.  10.00 am.
GEO:-2.403055;53.637174
LOCATION:St Anne's Church\, Turton
URL:https://www.achurchnearyou.com/church/16118/service-and-events/events/
 1183467/
END:VEVENT
BEGIN:VEVENT
SUMMARY:Wednesday Holy Communion
DTSTART;TZID=Europe/London:20260812T093000
DTEND;TZID=Europe/London:20260812T101500
DTSTAMP:20260421T005848Z
UID:6737041786523400.0achurchnearyou
CATEGORIES:
DESCRIPTION:Book of Common Prayer - said service - a service of quiet and 
 reflection in the middle of the week in this beautiful and peaceful church
 .
GEO:-2.403055;53.637174
LOCATION:St Anne's Church\, Turton
URL:https://www.achurchnearyou.com/church/16118/service-and-events/events/
 673704/
END:VEVENT
BEGIN:VEVENT
SUMMARY:Sunday Holy Communion
DTSTART;TZID=Europe/London:20260816T110000
DTEND;TZID=Europe/London:20260816T120000
DTSTAMP:20260421T005848Z
UID:11834671786874400.0achurchnearyou
CATEGORIES:
DESCRIPTION:Every Sunday at 11.00 am.  No service on 19th April as there w
 ill be a Team Service at Canon Slade School run by Turton Youth Team.  All
  welcome.  10.00 am.
GEO:-2.403055;53.637174
LOCATION:St Anne's Church\, Turton
URL:https://www.achurchnearyou.com/church/16118/service-and-events/events/
 1183467/
END:VEVENT
BEGIN:VEVENT
SUMMARY:Wednesday Holy Communion
DTSTART;TZID=Europe/London:20260819T093000
DTEND;TZID=Europe/London:20260819T101500
DTSTAMP:20260421T005848Z
UID:6737041787128200.0achurchnearyou
CATEGORIES:
DESCRIPTION:Book of Common Prayer - said service - a service of quiet and 
 reflection in the middle of the week in this beautiful and peaceful church
 .
GEO:-2.403055;53.637174
LOCATION:St Anne's Church\, Turton
URL:https://www.achurchnearyou.com/church/16118/service-and-events/events/
 673704/
END:VEVENT
BEGIN:VEVENT
SUMMARY:Sunday Holy Communion
DTSTART;TZID=Europe/London:20260823T110000
DTEND;TZID=Europe/London:20260823T120000
DTSTAMP:20260421T005848Z
UID:11834671787479200.0achurchnearyou
CATEGORIES:
DESCRIPTION:Every Sunday at 11.00 am.  No service on 19th April as there w
 ill be a Team Service at Canon Slade School run by Turton Youth Team.  All
  welcome.  10.00 am.
GEO:-2.403055;53.637174
LOCATION:St Anne's Church\, Turton
URL:https://www.achurchnearyou.com/church/16118/service-and-events/events/
 1183467/
END:VEVENT
BEGIN:VEVENT
SUMMARY:Wednesday Holy Communion
DTSTART;TZID=Europe/London:20260826T093000
DTEND;TZID=Europe/London:20260826T101500
DTSTAMP:20260421T005848Z
UID:6737041787733000.0achurchnearyou
CATEGORIES:
DESCRIPTION:Book of Common Prayer - said service - a service of quiet and 
 reflection in the middle of the week in this beautiful and peaceful church
 .
GEO:-2.403055;53.637174
LOCATION:St Anne's Church\, Turton
URL:https://www.achurchnearyou.com/church/16118/service-and-events/events/
 673704/
END:VEVENT
BEGIN:VEVENT
SUMMARY:Sunday Holy Communion
DTSTART;TZID=Europe/London:20260830T110000
DTEND;TZID=Europe/London:20260830T120000
DTSTAMP:20260421T005848Z
UID:11834671788084000.0achurchnearyou
CATEGORIES:
DESCRIPTION:Every Sunday at 11.00 am.  No service on 19th April as there w
 ill be a Team Service at Canon Slade School run by Turton Youth Team.  All
  welcome.  10.00 am.
GEO:-2.403055;53.637174
LOCATION:St Anne's Church\, Turton
URL:https://www.achurchnearyou.com/church/16118/service-and-events/events/
 1183467/
END:VEVENT
BEGIN:VEVENT
SUMMARY:Wednesday Holy Communion
DTSTART;TZID=Europe/London:20260902T093000
DTEND;TZID=Europe/London:20260902T101500
DTSTAMP:20260421T005848Z
UID:6737041788337800.0achurchnearyou
CATEGORIES:
DESCRIPTION:Book of Common Prayer - said service - a service of quiet and 
 reflection in the middle of the week in this beautiful and peaceful church
 .
GEO:-2.403055;53.637174
LOCATION:St Anne's Church\, Turton
URL:https://www.achurchnearyou.com/church/16118/service-and-events/events/
 673704/
END:VEVENT
BEGIN:VEVENT
SUMMARY:Sunday Holy Communion
DTSTART;TZID=Europe/London:20260906T110000
DTEND;TZID=Europe/London:20260906T120000
DTSTAMP:20260421T005848Z
UID:11834671788688800.0achurchnearyou
CATEGORIES:
DESCRIPTION:Every Sunday at 11.00 am.  No service on 19th April as there w
 ill be a Team Service at Canon Slade School run by Turton Youth Team.  All
  welcome.  10.00 am.
GEO:-2.403055;53.637174
LOCATION:St Anne's Church\, Turton
URL:https://www.achurchnearyou.com/church/16118/service-and-events/events/
 1183467/
END:VEVENT
BEGIN:VEVENT
SUMMARY:Wednesday Holy Communion
DTSTART;TZID=Europe/London:20260909T093000
DTEND;TZID=Europe/London:20260909T101500
DTSTAMP:20260421T005848Z
UID:6737041788942600.0achurchnearyou
CATEGORIES:
DESCRIPTION:Book of Common Prayer - said service - a service of quiet and 
 reflection in the middle of the week in this beautiful and peaceful church
 .
GEO:-2.403055;53.637174
LOCATION:St Anne's Church\, Turton
URL:https://www.achurchnearyou.com/church/16118/service-and-events/events/
 673704/
END:VEVENT
BEGIN:VEVENT
SUMMARY:Sunday Holy Communion
DTSTART;TZID=Europe/London:20260913T110000
DTEND;TZID=Europe/London:20260913T120000
DTSTAMP:20260421T005848Z
UID:11834671789293600.0achurchnearyou
CATEGORIES:
DESCRIPTION:Every Sunday at 11.00 am.  No service on 19th April as there w
 ill be a Team Service at Canon Slade School run by Turton Youth Team.  All
  welcome.  10.00 am.
GEO:-2.403055;53.637174
LOCATION:St Anne's Church\, Turton
URL:https://www.achurchnearyou.com/church/16118/service-and-events/events/
 1183467/
END:VEVENT
BEGIN:VEVENT
SUMMARY:Wednesday Holy Communion
DTSTART;TZID=Europe/London:20260916T093000
DTEND;TZID=Europe/London:20260916T101500
DTSTAMP:20260421T005848Z
UID:6737041789547400.0achurchnearyou
CATEGORIES:
DESCRIPTION:Book of Common Prayer - said service - a service of quiet and 
 reflection in the middle of the week in this beautiful and peaceful church
 .
GEO:-2.403055;53.637174
LOCATION:St Anne's Church\, Turton
URL:https://www.achurchnearyou.com/church/16118/service-and-events/events/
 673704/
END:VEVENT
BEGIN:VEVENT
SUMMARY:Sunday Holy Communion
DTSTART;TZID=Europe/London:20260920T110000
DTEND;TZID=Europe/London:20260920T120000
DTSTAMP:20260421T005848Z
UID:11834671789898400.0achurchnearyou
CATEGORIES:
DESCRIPTION:Every Sunday at 11.00 am.  No service on 19th April as there w
 ill be a Team Service at Canon Slade School run by Turton Youth Team.  All
  welcome.  10.00 am.
GEO:-2.403055;53.637174
LOCATION:St Anne's Church\, Turton
URL:https://www.achurchnearyou.com/church/16118/service-and-events/events/
 1183467/
END:VEVENT
BEGIN:VEVENT
SUMMARY:Wednesday Holy Communion
DTSTART;TZID=Europe/London:20260923T093000
DTEND;TZID=Europe/London:20260923T101500
DTSTAMP:20260421T005848Z
UID:6737041790152200.0achurchnearyou
CATEGORIES:
DESCRIPTION:Book of Common Prayer - said service - a service of quiet and 
 reflection in the middle of the week in this beautiful and peaceful church
 .
GEO:-2.403055;53.637174
LOCATION:St Anne's Church\, Turton
URL:https://www.achurchnearyou.com/church/16118/service-and-events/events/
 673704/
END:VEVENT
BEGIN:VEVENT
SUMMARY:Sunday Holy Communion
DTSTART;TZID=Europe/London:20260927T110000
DTEND;TZID=Europe/London:20260927T120000
DTSTAMP:20260421T005848Z
UID:11834671790503200.0achurchnearyou
CATEGORIES:
DESCRIPTION:Every Sunday at 11.00 am.  No service on 19th April as there w
 ill be a Team Service at Canon Slade School run by Turton Youth Team.  All
  welcome.  10.00 am.
GEO:-2.403055;53.637174
LOCATION:St Anne's Church\, Turton
URL:https://www.achurchnearyou.com/church/16118/service-and-events/events/
 1183467/
END:VEVENT
BEGIN:VEVENT
SUMMARY:Wednesday Holy Communion
DTSTART;TZID=Europe/London:20260930T093000
DTEND;TZID=Europe/London:20260930T101500
DTSTAMP:20260421T005848Z
UID:6737041790757000.0achurchnearyou
CATEGORIES:
DESCRIPTION:Book of Common Prayer - said service - a service of quiet and 
 reflection in the middle of the week in this beautiful and peaceful church
 .
GEO:-2.403055;53.637174
LOCATION:St Anne's Church\, Turton
URL:https://www.achurchnearyou.com/church/16118/service-and-events/events/
 673704/
END:VEVENT
END:VCALENDAR
