BEGIN:VCALENDAR
VERSION:2.0
PRODID:-//achurchnearyou.com//eventfeed//EN
CALSCALE:GREGORIAN
METHOD:PUBLISH
X-WR-TIMEZONE:UTC
BEGIN:VEVENT
SUMMARY:Services for Holy Week - Palm Sunday to Maundy Thursday in the Par
 ish
DTSTART:20250413T084500Z
DTEND:20250417T200000Z
DTSTAMP:20260424T132840Z
UID:11887762025-04-13 08:45:00+00:00achurchnearyou
CATEGORIES:
DESCRIPTION:Services from this Sunday - Palm Sunday to Maundy Thursday at 
 St. Paul's Church\, Choppington and the Holy Family Church\, Stakeford - A
 ll Welcome - See poster for details - Click on 'View Attachment' for Full 
 Poster
GEO:-1.601375;55.149149
LOCATION:St Paul the Apostle\nHoly Family
URL:https://www.achurchnearyou.com/church/16144/service-and-events/events/
 1188776/
END:VEVENT
END:VCALENDAR
