BEGIN:VCALENDAR
VERSION:2.0
PRODID:-//achurchnearyou.com//eventfeed//EN
CALSCALE:GREGORIAN
METHOD:PUBLISH
X-WR-TIMEZONE:UTC
BEGIN:VEVENT
SUMMARY:Easter Coffee Morning
DTSTART:20250426T090000Z
DTEND:20250426T110000Z
DTSTAMP:20260424T115916Z
UID:11951062025-04-26 09:00:00+00:00achurchnearyou
CATEGORIES:
DESCRIPTION:Join us for our Easter Coffee Morning at the Holy Family Hall\
 , Stakeford\, NE62 5JZ (next to the Cherry Tree Pub) this Saturday 26th Ap
 ril from 10am. All Welcome. See Full Poster by Clicking on 'View Attachmen
 t'
LOCATION:Holy Family
URL:https://www.achurchnearyou.com/church/16144/service-and-events/events/
 1195106/
END:VEVENT
END:VCALENDAR
