BEGIN:VCALENDAR
VERSION:2.0
PRODID:-//achurchnearyou.com//eventfeed//EN
CALSCALE:GREGORIAN
METHOD:PUBLISH
X-WR-TIMEZONE:UTC
BEGIN:VEVENT
SUMMARY:Maundy Thursday
DTSTART:20250417T160000Z
DTEND:20250417T164500Z
DTSTAMP:20260420T032619Z
UID:11695902025-04-17 16:00:00+00:00achurchnearyou
CATEGORIES:
DESCRIPTION:Holy Communion
GEO:-1.979063;54.844031
LOCATION:St Edmund
URL:https://www.achurchnearyou.com/church/16185/service-and-events/events/
 1169590/
END:VEVENT
END:VCALENDAR
