BEGIN:VCALENDAR
VERSION:2.0
PRODID:-//achurchnearyou.com//eventfeed//EN
CALSCALE:GREGORIAN
METHOD:PUBLISH
X-WR-TIMEZONE:UTC
BEGIN:VEVENT
SUMMARY:Remembrance Sunday Service
DTSTART:20251109T100000Z
DTEND:20251109T110000Z
DTSTAMP:20260421T061505Z
UID:12388812025-11-09 10:00:00+00:00achurchnearyou
CATEGORIES:
DESCRIPTION:Hymns and Prayers in church at 10am\, followed by a ceremony a
 t the war memorial in Bardon Mill at 10.50am
LOCATION:All Hallows Henshaw
URL:https://www.achurchnearyou.com/church/16191/service-and-events/events/
 1238881/
END:VEVENT
END:VCALENDAR
