BEGIN:VCALENDAR
VERSION:2.0
PRODID:-//achurchnearyou.com//eventfeed//EN
CALSCALE:GREGORIAN
METHOD:PUBLISH
X-WR-TIMEZONE:UTC
BEGIN:VEVENT
SUMMARY:Maundy Thursday Eucharist
DTSTART:20250417T170000Z
DTEND:20250417T180000Z
DTSTAMP:20260424T112150Z
UID:11769652025-04-17 17:00:00+00:00achurchnearyou
CATEGORIES:
DESCRIPTION:Service with Holy Communion and hymns
GEO:-2.340374;54.866376
LOCATION:St Mark's\, Ninebanks
URL:https://www.achurchnearyou.com/church/16207/service-and-events/events/
 1176965/
END:VEVENT
END:VCALENDAR
