BEGIN:VCALENDAR
VERSION:2.0
PRODID:-//achurchnearyou.com//eventfeed//EN
CALSCALE:GREGORIAN
METHOD:PUBLISH
X-WR-TIMEZONE:UTC
BEGIN:VEVENT
SUMMARY:Christmas Midnight Communion
DTSTART:20251224T233000Z
DTEND:20251225T001500Z
DTSTAMP:20260423T180614Z
UID:12724962025-12-24 23:30:00+00:00achurchnearyou
CATEGORIES:
DESCRIPTION:A Christmas midnight service with Holy Communion and carols  b
 y candlelight
GEO:-2.340374;54.866376
LOCATION:St Mark's\, Ninebanks
URL:https://www.achurchnearyou.com/church/16207/service-and-events/events/
 1272496/
END:VEVENT
END:VCALENDAR
