BEGIN:VCALENDAR
VERSION:2.0
PRODID:-//achurchnearyou.com//eventfeed//EN
CALSCALE:GREGORIAN
METHOD:PUBLISH
X-WR-TIMEZONE:UTC
BEGIN:VEVENT
SUMMARY:All Age Journey to the Cross
DTSTART:20250418T083000Z
DTEND:20250418T093000Z
DTSTAMP:20260424T135645Z
UID:11927272025-04-18 08:30:00+00:00achurchnearyou
CATEGORIES:
DESCRIPTION:All Age event: Good Friday story\, children's activities\, and
  hot cross buns.
GEO:-1.609407;55.006634
LOCATION:St Nicholas\, Gosforth
URL:https://www.achurchnearyou.com/church/16215/service-and-events/events/
 1192727/
END:VEVENT
END:VCALENDAR
