BEGIN:VCALENDAR
VERSION:2.0
PRODID:-//achurchnearyou.com//eventfeed//EN
CALSCALE:GREGORIAN
METHOD:PUBLISH
X-WR-TIMEZONE:UTC
BEGIN:VEVENT
SUMMARY:Summer Fayre
DTSTART:20250712T100000Z
DTEND:20250712T120000Z
DTSTAMP:20260419T130258Z
UID:12105592025-07-12 10:00:00+00:00achurchnearyou
CATEGORIES:
DESCRIPTION:It would be wonderful to see you at our Summer Fayre
GEO:-1.6535;55.0022
LOCATION:The Church of the Ascension
URL:https://www.achurchnearyou.com/church/16216/service-and-events/events/
 1210559/
END:VEVENT
END:VCALENDAR
