BEGIN:VCALENDAR
VERSION:2.0
PRODID:-//achurchnearyou.com//eventfeed//EN
CALSCALE:GREGORIAN
METHOD:PUBLISH
X-WR-TIMEZONE:UTC
BEGIN:VEVENT
SUMMARY:Knit and Natter
DTSTART;TZID=Europe/London:20260504T140000
DTEND;TZID=Europe/London:20260504T153000
DTSTAMP:20260422T142747Z
UID:638582026-05-04 14:00:00+01:00achurchnearyou
CATEGORIES:
DESCRIPTION:Knitting for a good cause\, nattering for fun. \nRefreshments 
 are provided free of charge\, everyone is very welcome. Bring your knittin
 g if you have some\, wool and needles can be provided if you don't\, or ju
 st come for the chat.
GEO:-1.607628;54.992318
LOCATION:St Hilda's Jesmond
URL:https://www.achurchnearyou.com/church/16219/service-and-events/events/
 63858/
END:VEVENT
BEGIN:VEVENT
SUMMARY:Knit and Natter
DTSTART;TZID=Europe/London:20260601T140000
DTEND;TZID=Europe/London:20260601T153000
DTSTAMP:20260422T142747Z
UID:638582026-06-01 14:00:00+01:00achurchnearyou
CATEGORIES:
DESCRIPTION:Knitting for a good cause\, nattering for fun. \nRefreshments 
 are provided free of charge\, everyone is very welcome. Bring your knittin
 g if you have some\, wool and needles can be provided if you don't\, or ju
 st come for the chat.
GEO:-1.607628;54.992318
LOCATION:St Hilda's Jesmond
URL:https://www.achurchnearyou.com/church/16219/service-and-events/events/
 63858/
END:VEVENT
BEGIN:VEVENT
SUMMARY:Knit and Natter
DTSTART;TZID=Europe/London:20260706T140000
DTEND;TZID=Europe/London:20260706T153000
DTSTAMP:20260422T142747Z
UID:638582026-07-06 14:00:00+01:00achurchnearyou
CATEGORIES:
DESCRIPTION:Knitting for a good cause\, nattering for fun. \nRefreshments 
 are provided free of charge\, everyone is very welcome. Bring your knittin
 g if you have some\, wool and needles can be provided if you don't\, or ju
 st come for the chat.
GEO:-1.607628;54.992318
LOCATION:St Hilda's Jesmond
URL:https://www.achurchnearyou.com/church/16219/service-and-events/events/
 63858/
END:VEVENT
BEGIN:VEVENT
SUMMARY:Knit and Natter
DTSTART;TZID=Europe/London:20260803T140000
DTEND;TZID=Europe/London:20260803T153000
DTSTAMP:20260422T142747Z
UID:638582026-08-03 14:00:00+01:00achurchnearyou
CATEGORIES:
DESCRIPTION:Knitting for a good cause\, nattering for fun. \nRefreshments 
 are provided free of charge\, everyone is very welcome. Bring your knittin
 g if you have some\, wool and needles can be provided if you don't\, or ju
 st come for the chat.
GEO:-1.607628;54.992318
LOCATION:St Hilda's Jesmond
URL:https://www.achurchnearyou.com/church/16219/service-and-events/events/
 63858/
END:VEVENT
BEGIN:VEVENT
SUMMARY:Knit and Natter
DTSTART;TZID=Europe/London:20260907T140000
DTEND;TZID=Europe/London:20260907T153000
DTSTAMP:20260422T142747Z
UID:638582026-09-07 14:00:00+01:00achurchnearyou
CATEGORIES:
DESCRIPTION:Knitting for a good cause\, nattering for fun. \nRefreshments 
 are provided free of charge\, everyone is very welcome. Bring your knittin
 g if you have some\, wool and needles can be provided if you don't\, or ju
 st come for the chat.
GEO:-1.607628;54.992318
LOCATION:St Hilda's Jesmond
URL:https://www.achurchnearyou.com/church/16219/service-and-events/events/
 63858/
END:VEVENT
BEGIN:VEVENT
SUMMARY:Knit and Natter
DTSTART;TZID=Europe/London:20261005T140000
DTEND;TZID=Europe/London:20261005T153000
DTSTAMP:20260422T142747Z
UID:638582026-10-05 14:00:00+01:00achurchnearyou
CATEGORIES:
DESCRIPTION:Knitting for a good cause\, nattering for fun. \nRefreshments 
 are provided free of charge\, everyone is very welcome. Bring your knittin
 g if you have some\, wool and needles can be provided if you don't\, or ju
 st come for the chat.
GEO:-1.607628;54.992318
LOCATION:St Hilda's Jesmond
URL:https://www.achurchnearyou.com/church/16219/service-and-events/events/
 63858/
END:VEVENT
BEGIN:VEVENT
SUMMARY:Knit and Natter
DTSTART;TZID=Europe/London:20261102T140000
DTEND;TZID=Europe/London:20261102T153000
DTSTAMP:20260422T142747Z
UID:638582026-11-02 14:00:00+00:00achurchnearyou
CATEGORIES:
DESCRIPTION:Knitting for a good cause\, nattering for fun. \nRefreshments 
 are provided free of charge\, everyone is very welcome. Bring your knittin
 g if you have some\, wool and needles can be provided if you don't\, or ju
 st come for the chat.
GEO:-1.607628;54.992318
LOCATION:St Hilda's Jesmond
URL:https://www.achurchnearyou.com/church/16219/service-and-events/events/
 63858/
END:VEVENT
BEGIN:VEVENT
SUMMARY:Knit and Natter
DTSTART;TZID=Europe/London:20261207T140000
DTEND;TZID=Europe/London:20261207T153000
DTSTAMP:20260422T142747Z
UID:638582026-12-07 14:00:00+00:00achurchnearyou
CATEGORIES:
DESCRIPTION:Knitting for a good cause\, nattering for fun. \nRefreshments 
 are provided free of charge\, everyone is very welcome. Bring your knittin
 g if you have some\, wool and needles can be provided if you don't\, or ju
 st come for the chat.
GEO:-1.607628;54.992318
LOCATION:St Hilda's Jesmond
URL:https://www.achurchnearyou.com/church/16219/service-and-events/events/
 63858/
END:VEVENT
BEGIN:VEVENT
SUMMARY:Knit and Natter
DTSTART;TZID=Europe/London:20270104T140000
DTEND;TZID=Europe/London:20270104T153000
DTSTAMP:20260422T142747Z
UID:638582027-01-04 14:00:00+00:00achurchnearyou
CATEGORIES:
DESCRIPTION:Knitting for a good cause\, nattering for fun. \nRefreshments 
 are provided free of charge\, everyone is very welcome. Bring your knittin
 g if you have some\, wool and needles can be provided if you don't\, or ju
 st come for the chat.
GEO:-1.607628;54.992318
LOCATION:St Hilda's Jesmond
URL:https://www.achurchnearyou.com/church/16219/service-and-events/events/
 63858/
END:VEVENT
BEGIN:VEVENT
SUMMARY:Knit and Natter
DTSTART;TZID=Europe/London:20270201T140000
DTEND;TZID=Europe/London:20270201T153000
DTSTAMP:20260422T142747Z
UID:638582027-02-01 14:00:00+00:00achurchnearyou
CATEGORIES:
DESCRIPTION:Knitting for a good cause\, nattering for fun. \nRefreshments 
 are provided free of charge\, everyone is very welcome. Bring your knittin
 g if you have some\, wool and needles can be provided if you don't\, or ju
 st come for the chat.
GEO:-1.607628;54.992318
LOCATION:St Hilda's Jesmond
URL:https://www.achurchnearyou.com/church/16219/service-and-events/events/
 63858/
END:VEVENT
BEGIN:VEVENT
SUMMARY:Knit and Natter
DTSTART;TZID=Europe/London:20270301T140000
DTEND;TZID=Europe/London:20270301T153000
DTSTAMP:20260422T142747Z
UID:638582027-03-01 14:00:00+00:00achurchnearyou
CATEGORIES:
DESCRIPTION:Knitting for a good cause\, nattering for fun. \nRefreshments 
 are provided free of charge\, everyone is very welcome. Bring your knittin
 g if you have some\, wool and needles can be provided if you don't\, or ju
 st come for the chat.
GEO:-1.607628;54.992318
LOCATION:St Hilda's Jesmond
URL:https://www.achurchnearyou.com/church/16219/service-and-events/events/
 63858/
END:VEVENT
BEGIN:VEVENT
SUMMARY:Knit and Natter
DTSTART;TZID=Europe/London:20270405T140000
DTEND;TZID=Europe/London:20270405T153000
DTSTAMP:20260422T142747Z
UID:638582027-04-05 14:00:00+01:00achurchnearyou
CATEGORIES:
DESCRIPTION:Knitting for a good cause\, nattering for fun. \nRefreshments 
 are provided free of charge\, everyone is very welcome. Bring your knittin
 g if you have some\, wool and needles can be provided if you don't\, or ju
 st come for the chat.
GEO:-1.607628;54.992318
LOCATION:St Hilda's Jesmond
URL:https://www.achurchnearyou.com/church/16219/service-and-events/events/
 63858/
END:VEVENT
END:VCALENDAR
