BEGIN:VCALENDAR
VERSION:2.0
PRODID:-//achurchnearyou.com//eventfeed//EN
CALSCALE:GREGORIAN
METHOD:PUBLISH
X-WR-TIMEZONE:UTC
BEGIN:VEVENT
SUMMARY:Midnight Eucharist
DTSTART:20251224T233000Z
DTEND:20251225T003000Z
DTSTAMP:20260421T095521Z
UID:12729212025-12-24 23:30:00+00:00achurchnearyou
CATEGORIES:
DESCRIPTION:The First Eucharist of Christmas!
GEO:-1.588889;55.003333
LOCATION:St Francis
URL:https://www.achurchnearyou.com/church/16237/service-and-events/events/
 1272921/
END:VEVENT
END:VCALENDAR
