BEGIN:VCALENDAR
VERSION:2.0
PRODID:-//achurchnearyou.com//eventfeed//EN
CALSCALE:GREGORIAN
METHOD:PUBLISH
X-WR-TIMEZONE:UTC
BEGIN:VEVENT
SUMMARY:Easter Sunday service
DTSTART:20260405T100000Z
DTEND:20260405T110000Z
DTSTAMP:20260423T150841Z
UID:13203482026-04-05 10:00:00+00:00achurchnearyou
CATEGORIES:
DESCRIPTION:Easter Sunday service
GEO:-1.753712;54.995675
LOCATION:St Mary the Virgin
URL:https://www.achurchnearyou.com/church/16245/service-and-events/events/
 1320348/
END:VEVENT
END:VCALENDAR
