BEGIN:VCALENDAR
VERSION:2.0
PRODID:-//achurchnearyou.com//eventfeed//EN
CALSCALE:GREGORIAN
METHOD:PUBLISH
X-WR-TIMEZONE:UTC
BEGIN:VEVENT
SUMMARY:Cafe Church
DTSTART;TZID=Europe/London:20260510T150000
DTEND;TZID=Europe/London:20260510T160000
DTSTAMP:20260423T021651Z
UID:11493542026-05-10 15:00:00+01:00achurchnearyou
CATEGORIES:
DESCRIPTION:An informal gathering in Coquet Tea Rooms on Queen Street\, wi
 th teaching\, discussion\, prayers and music and sometimes art and craft w
 ork. And refreshments of course.
GEO:-1.583785;55.333306
LOCATION:St Cuthbert Parish Church
URL:https://www.achurchnearyou.com/church/16281/service-and-events/events/
 1149354/
END:VEVENT
BEGIN:VEVENT
SUMMARY:Cafe Church
DTSTART;TZID=Europe/London:20260614T150000
DTEND;TZID=Europe/London:20260614T160000
DTSTAMP:20260423T021651Z
UID:11493542026-06-14 15:00:00+01:00achurchnearyou
CATEGORIES:
DESCRIPTION:An informal gathering in Coquet Tea Rooms on Queen Street\, wi
 th teaching\, discussion\, prayers and music and sometimes art and craft w
 ork. And refreshments of course.
GEO:-1.583785;55.333306
LOCATION:St Cuthbert Parish Church
URL:https://www.achurchnearyou.com/church/16281/service-and-events/events/
 1149354/
END:VEVENT
BEGIN:VEVENT
SUMMARY:Cafe Church
DTSTART;TZID=Europe/London:20260712T150000
DTEND;TZID=Europe/London:20260712T160000
DTSTAMP:20260423T021651Z
UID:11493542026-07-12 15:00:00+01:00achurchnearyou
CATEGORIES:
DESCRIPTION:An informal gathering in Coquet Tea Rooms on Queen Street\, wi
 th teaching\, discussion\, prayers and music and sometimes art and craft w
 ork. And refreshments of course.
GEO:-1.583785;55.333306
LOCATION:St Cuthbert Parish Church
URL:https://www.achurchnearyou.com/church/16281/service-and-events/events/
 1149354/
END:VEVENT
BEGIN:VEVENT
SUMMARY:Cafe Church
DTSTART;TZID=Europe/London:20260809T150000
DTEND;TZID=Europe/London:20260809T160000
DTSTAMP:20260423T021651Z
UID:11493542026-08-09 15:00:00+01:00achurchnearyou
CATEGORIES:
DESCRIPTION:An informal gathering in Coquet Tea Rooms on Queen Street\, wi
 th teaching\, discussion\, prayers and music and sometimes art and craft w
 ork. And refreshments of course.
GEO:-1.583785;55.333306
LOCATION:St Cuthbert Parish Church
URL:https://www.achurchnearyou.com/church/16281/service-and-events/events/
 1149354/
END:VEVENT
BEGIN:VEVENT
SUMMARY:Cafe Church
DTSTART;TZID=Europe/London:20260913T150000
DTEND;TZID=Europe/London:20260913T160000
DTSTAMP:20260423T021651Z
UID:11493542026-09-13 15:00:00+01:00achurchnearyou
CATEGORIES:
DESCRIPTION:An informal gathering in Coquet Tea Rooms on Queen Street\, wi
 th teaching\, discussion\, prayers and music and sometimes art and craft w
 ork. And refreshments of course.
GEO:-1.583785;55.333306
LOCATION:St Cuthbert Parish Church
URL:https://www.achurchnearyou.com/church/16281/service-and-events/events/
 1149354/
END:VEVENT
BEGIN:VEVENT
SUMMARY:Cafe Church
DTSTART;TZID=Europe/London:20261011T150000
DTEND;TZID=Europe/London:20261011T160000
DTSTAMP:20260423T021651Z
UID:11493542026-10-11 15:00:00+01:00achurchnearyou
CATEGORIES:
DESCRIPTION:An informal gathering in Coquet Tea Rooms on Queen Street\, wi
 th teaching\, discussion\, prayers and music and sometimes art and craft w
 ork. And refreshments of course.
GEO:-1.583785;55.333306
LOCATION:St Cuthbert Parish Church
URL:https://www.achurchnearyou.com/church/16281/service-and-events/events/
 1149354/
END:VEVENT
BEGIN:VEVENT
SUMMARY:Cafe Church
DTSTART;TZID=Europe/London:20261108T150000
DTEND;TZID=Europe/London:20261108T160000
DTSTAMP:20260423T021651Z
UID:11493542026-11-08 15:00:00+00:00achurchnearyou
CATEGORIES:
DESCRIPTION:An informal gathering in Coquet Tea Rooms on Queen Street\, wi
 th teaching\, discussion\, prayers and music and sometimes art and craft w
 ork. And refreshments of course.
GEO:-1.583785;55.333306
LOCATION:St Cuthbert Parish Church
URL:https://www.achurchnearyou.com/church/16281/service-and-events/events/
 1149354/
END:VEVENT
BEGIN:VEVENT
SUMMARY:Cafe Church
DTSTART;TZID=Europe/London:20261213T150000
DTEND;TZID=Europe/London:20261213T160000
DTSTAMP:20260423T021651Z
UID:11493542026-12-13 15:00:00+00:00achurchnearyou
CATEGORIES:
DESCRIPTION:An informal gathering in Coquet Tea Rooms on Queen Street\, wi
 th teaching\, discussion\, prayers and music and sometimes art and craft w
 ork. And refreshments of course.
GEO:-1.583785;55.333306
LOCATION:St Cuthbert Parish Church
URL:https://www.achurchnearyou.com/church/16281/service-and-events/events/
 1149354/
END:VEVENT
BEGIN:VEVENT
SUMMARY:Cafe Church
DTSTART;TZID=Europe/London:20270110T150000
DTEND;TZID=Europe/London:20270110T160000
DTSTAMP:20260423T021651Z
UID:11493542027-01-10 15:00:00+00:00achurchnearyou
CATEGORIES:
DESCRIPTION:An informal gathering in Coquet Tea Rooms on Queen Street\, wi
 th teaching\, discussion\, prayers and music and sometimes art and craft w
 ork. And refreshments of course.
GEO:-1.583785;55.333306
LOCATION:St Cuthbert Parish Church
URL:https://www.achurchnearyou.com/church/16281/service-and-events/events/
 1149354/
END:VEVENT
BEGIN:VEVENT
SUMMARY:Cafe Church
DTSTART;TZID=Europe/London:20270214T150000
DTEND;TZID=Europe/London:20270214T160000
DTSTAMP:20260423T021651Z
UID:11493542027-02-14 15:00:00+00:00achurchnearyou
CATEGORIES:
DESCRIPTION:An informal gathering in Coquet Tea Rooms on Queen Street\, wi
 th teaching\, discussion\, prayers and music and sometimes art and craft w
 ork. And refreshments of course.
GEO:-1.583785;55.333306
LOCATION:St Cuthbert Parish Church
URL:https://www.achurchnearyou.com/church/16281/service-and-events/events/
 1149354/
END:VEVENT
BEGIN:VEVENT
SUMMARY:Cafe Church
DTSTART;TZID=Europe/London:20270314T150000
DTEND;TZID=Europe/London:20270314T160000
DTSTAMP:20260423T021651Z
UID:11493542027-03-14 15:00:00+00:00achurchnearyou
CATEGORIES:
DESCRIPTION:An informal gathering in Coquet Tea Rooms on Queen Street\, wi
 th teaching\, discussion\, prayers and music and sometimes art and craft w
 ork. And refreshments of course.
GEO:-1.583785;55.333306
LOCATION:St Cuthbert Parish Church
URL:https://www.achurchnearyou.com/church/16281/service-and-events/events/
 1149354/
END:VEVENT
BEGIN:VEVENT
SUMMARY:Cafe Church
DTSTART;TZID=Europe/London:20270411T150000
DTEND;TZID=Europe/London:20270411T160000
DTSTAMP:20260423T021651Z
UID:11493542027-04-11 15:00:00+01:00achurchnearyou
CATEGORIES:
DESCRIPTION:An informal gathering in Coquet Tea Rooms on Queen Street\, wi
 th teaching\, discussion\, prayers and music and sometimes art and craft w
 ork. And refreshments of course.
GEO:-1.583785;55.333306
LOCATION:St Cuthbert Parish Church
URL:https://www.achurchnearyou.com/church/16281/service-and-events/events/
 1149354/
END:VEVENT
END:VCALENDAR
