BEGIN:VCALENDAR
VERSION:2.0
PRODID:-//achurchnearyou.com//eventfeed//EN
CALSCALE:GREGORIAN
METHOD:PUBLISH
X-WR-TIMEZONE:UTC
BEGIN:VEVENT
SUMMARY:Easter Services 2025
DTSTART:20250417T180000Z
DTEND:20250420T110000Z
DTSTAMP:20260425T032926Z
UID:11873542025-04-17 18:00:00+00:00achurchnearyou
CATEGORIES:
DESCRIPTION:Thursday 17th April\, 7pm\n- Maundy Thursday Eucharist\n\nGood
  Friday\, 2pm\n- Walk with the Cross. Meeting at the Village Hall.\n\nSatu
 rday 19th April\, 8pm\n - Vigil by the tomb\n\nEaster Sunday\, 10:30am\n -
  ‘Roll away the stone’ followed by our celebration service.
GEO:-1.714683;55.295566
LOCATION:St Michael & All Angels
URL:https://www.achurchnearyou.com/church/16288/service-and-events/events/
 1187354/
END:VEVENT
END:VCALENDAR
