BEGIN:VCALENDAR
VERSION:2.0
PRODID:-//achurchnearyou.com//eventfeed//EN
CALSCALE:GREGORIAN
METHOD:PUBLISH
X-WR-TIMEZONE:UTC
BEGIN:VEVENT
SUMMARY:Ascension Day service
DTSTART:20250529T093000Z
DTEND:20250529T130000Z
DTSTAMP:20260421T142934Z
UID:12018492025-05-29 09:30:00+00:00achurchnearyou
CATEGORIES:
DESCRIPTION:Celebrate Ascension Day on a nature reserve!\nWe gather at 10.
 30am at Middle Stobswood Farm NE61 3AZ.\nWe will walk or drive out onto th
 e nature reserve and there we will hold a Service of Holy Communion.\nAfte
 rwards we will celebrate at the farm house with a bring and share lunch.\n
 If the weather lets us down we will hold the service in the farm house.
GEO:-1.54448;55.233306
LOCATION:St Bartholomew Cresswell
URL:https://www.achurchnearyou.com/church/16322/service-and-events/events/
 1201849/
END:VEVENT
END:VCALENDAR
