BEGIN:VCALENDAR
VERSION:2.0
PRODID:-//achurchnearyou.com//eventfeed//EN
CALSCALE:GREGORIAN
METHOD:PUBLISH
X-WR-TIMEZONE:UTC
BEGIN:VEVENT
SUMMARY:Carols and Lessons
DTSTART:20251224T160000Z
DTEND:20251224T170000Z
DTSTAMP:20260423T231304Z
UID:12421112025-12-24 16:00:00+00:00achurchnearyou
CATEGORIES:
DESCRIPTION:Join us for Carols and Lessons as we journey to the Manger on 
 this Holy Night.
GEO:-1.696379;55.202319
LOCATION:St Cuthbert's Hebron
URL:https://www.achurchnearyou.com/church/16326/service-and-events/events/
 1242111/
END:VEVENT
END:VCALENDAR
