BEGIN:VCALENDAR
VERSION:2.0
PRODID:-//achurchnearyou.com//eventfeed//EN
CALSCALE:GREGORIAN
METHOD:PUBLISH
X-WR-TIMEZONE:UTC
BEGIN:VEVENT
SUMMARY:Good Friday Liturgy
DTSTART:20250418T090000Z
DTEND:20250418T100000Z
DTSTAMP:20260420T041253Z
UID:11779502025-04-18 09:00:00+00:00achurchnearyou
CATEGORIES:
DESCRIPTION:Good Friday
GEO:-1.983108;55.138298
LOCATION:St Wilfrid
URL:https://3kirksandcambo.weebly.com/
END:VEVENT
END:VCALENDAR
