BEGIN:VCALENDAR
VERSION:2.0
PRODID:-//achurchnearyou.com//eventfeed//EN
CALSCALE:GREGORIAN
METHOD:PUBLISH
X-WR-TIMEZONE:UTC
BEGIN:VEVENT
SUMMARY:Christingle service with Holy Communion
DTSTART:20251221T111500Z
DTEND:20251221T121500Z
DTSTAMP:20260424T003214Z
UID:12339932025-12-21 11:15:00+00:00achurchnearyou
CATEGORIES:
DESCRIPTION:A family friendly service with Holy Communion
GEO:-1.69069;55.170089
LOCATION:St James the Great
URL:https://www.achurchnearyou.com/church/16334/service-and-events/events/
 1233993/
END:VEVENT
END:VCALENDAR
