BEGIN:VCALENDAR
VERSION:2.0
PRODID:-//achurchnearyou.com//eventfeed//EN
CALSCALE:GREGORIAN
METHOD:PUBLISH
X-WR-TIMEZONE:UTC
BEGIN:VEVENT
SUMMARY:Service of Light and Hope
DTSTART:20251102T170000Z
DTEND:20251102T180000Z
DTSTAMP:20260423T182705Z
UID:12415282025-11-02 17:00:00+00:00achurchnearyou
CATEGORIES:
DESCRIPTION:This is a gentle service without hymns\, to remember the loved
  ones we have lost
GEO:-1.632617;55.225981
LOCATION:St John's Ulgham
URL:https://www.achurchnearyou.com/church/16339/service-and-events/events/
 1241528/
END:VEVENT
END:VCALENDAR
