BEGIN:VCALENDAR
VERSION:2.0
PRODID:-//achurchnearyou.com//eventfeed//EN
CALSCALE:GREGORIAN
METHOD:PUBLISH
X-WR-TIMEZONE:UTC
BEGIN:VEVENT
SUMMARY:Holy Communion
DTSTART:20250223T100000Z
DTEND:20250223T110000Z
DTSTAMP:20260422T213015Z
UID:11565312025-02-23 10:00:00+00:00achurchnearyou
CATEGORIES:
DESCRIPTION:Friendly modern language service with hymns.
GEO:-1.277075;52.153367
LOCATION:St Leonard\, Aston-le-Walls
URL:https://www.achurchnearyou.com/church/16367/service-and-events/events/
 1156531/
END:VEVENT
END:VCALENDAR
