BEGIN:VCALENDAR
VERSION:2.0
PRODID:-//achurchnearyou.com//eventfeed//EN
CALSCALE:GREGORIAN
METHOD:PUBLISH
X-WR-TIMEZONE:UTC
BEGIN:VEVENT
SUMMARY:Holy Communion
DTSTART:20251207T110000Z
DTEND:20251207T120000Z
DTSTAMP:20260421T225519Z
UID:12663152025-12-07 11:00:00+00:00achurchnearyou
CATEGORIES:
DESCRIPTION:Common Worship Holy Communion with hymns and choir
GEO:-1.242029;52.172835
LOCATION:Holy Cross\, Byfield
URL:https://www.achurchnearyou.com/church/16372/service-and-events/events/
 1266315/
END:VEVENT
END:VCALENDAR
