BEGIN:VCALENDAR
VERSION:2.0
PRODID:-//achurchnearyou.com//eventfeed//EN
CALSCALE:GREGORIAN
METHOD:PUBLISH
X-WR-TIMEZONE:UTC
BEGIN:VEVENT
SUMMARY:Easter Holy Communion by Extension
DTSTART:20250420T101500Z
DTEND:20250420T111500Z
DTSTAMP:20260419T203257Z
UID:11940542025-04-20 10:15:00+00:00achurchnearyou
CATEGORIES:
DESCRIPTION:Holy Communion by Extension
GEO:-1.080965;52.072457
LOCATION:St James the Great\, Syresham
URL:https://www.achurchnearyou.com/church/16391/service-and-events/events/
 1194054/
END:VEVENT
END:VCALENDAR
