BEGIN:VCALENDAR
VERSION:2.0
PRODID:-//achurchnearyou.com//eventfeed//EN
CALSCALE:GREGORIAN
METHOD:PUBLISH
X-WR-TIMEZONE:UTC
BEGIN:VEVENT
SUMMARY:Compline for Wednesday of Holy Week RAVENSTHORPE CHURCH
DTSTART;TZID=Europe/London:20260401T190000
DTEND;TZID=Europe/London:20260401T193000
DTSTAMP:20260424T204803Z
UID:13120241775066400.0achurchnearyou
CATEGORIES:
DESCRIPTION:A short contemplative service.
LOCATION:St Denys Ravensthorpe
URL:https://www.achurchnearyou.com/church/16403/service-and-events/events/
 1312024/
END:VEVENT
BEGIN:VEVENT
SUMMARY:Maundy Thursday Communion GUILSBOROUGH CHURCH
DTSTART;TZID=Europe/London:20260402T193000
DTEND;TZID=Europe/London:20260402T203000
DTSTAMP:20260424T204803Z
UID:13120391775154600.0achurchnearyou
CATEGORIES:
DESCRIPTION:A service of Holy Communion during which we recall Jesus at th
 e Last Supper with his disciples. Followed by a Watch of Devotion.
LOCATION:St Etheldreda Guilsborough
URL:https://www.achurchnearyou.com/church/16403/service-and-events/events/
 1312039/
END:VEVENT
BEGIN:VEVENT
SUMMARY:Good Friday Stations of the Cross CREATON CHURCH
DTSTART;TZID=Europe/London:20260403T140000
DTEND;TZID=Europe/London:20260403T150000
DTSTAMP:20260424T204803Z
UID:13120611775221200.0achurchnearyou
CATEGORIES:
DESCRIPTION:We witness Jesus’ journey to the cross through images\, word
 s and music.
LOCATION:St Michael and All Angels Creaton
URL:https://www.achurchnearyou.com/church/16403/service-and-events/events/
 1312061/
END:VEVENT
BEGIN:VEVENT
SUMMARY:Easter Day Communion
DTSTART;TZID=Europe/London:20260405T093000
DTEND;TZID=Europe/London:20260405T103000
DTSTAMP:20260424T204803Z
UID:13120941775377800.0achurchnearyou
CATEGORIES:
DESCRIPTION:A celebration of Easter.
GEO:-1.037409;52.380541
LOCATION:St Denys
URL:https://www.achurchnearyou.com/church/16403/service-and-events/events/
 1312094/
END:VEVENT
BEGIN:VEVENT
SUMMARY:Group Service of Holy Communion with APCMs GUILSBOROUGH CHURCH
DTSTART;TZID=Europe/London:20260412T100000
DTEND;TZID=Europe/London:20260412T110000
DTSTAMP:20260424T204803Z
UID:13121241775984400.0achurchnearyou
CATEGORIES:
DESCRIPTION:Group Service incorporating the Annual Parochial Church Meetin
 gs for all eight churches in the Uplands Group.  Also Reverend Caroline's 
 last Sunday before retiring.
LOCATION:St Etheldreda Guilsborough
URL:https://www.achurchnearyou.com/church/16403/service-and-events/events/
 1312124/
END:VEVENT
BEGIN:VEVENT
SUMMARY:Holy Communion (Book of Common Prayer)
DTSTART;TZID=Europe/London:20260426T093000
DTEND;TZID=Europe/London:20260426T102000
DTSTAMP:20260424T204803Z
UID:7993531777192200.0achurchnearyou
CATEGORIES:
DESCRIPTION:A service of Holy Communion with recorded music and hymns.\nTh
 e Book of Common Prayer was written during the 1600s and although it has b
 een revised a little since then the language and mood of the service refle
 ct its centuries old history.
GEO:-1.037409;52.380541
LOCATION:St Denys
URL:https://www.achurchnearyou.com/church/16403/service-and-events/events/
 799353/
END:VEVENT
BEGIN:VEVENT
SUMMARY:Holy Communion (Book of Common Prayer)
DTSTART;TZID=Europe/London:20260524T093000
DTEND;TZID=Europe/London:20260524T102000
DTSTAMP:20260424T204803Z
UID:7993531779611400.0achurchnearyou
CATEGORIES:
DESCRIPTION:A service of Holy Communion with recorded music and hymns.\nTh
 e Book of Common Prayer was written during the 1600s and although it has b
 een revised a little since then the language and mood of the service refle
 ct its centuries old history.
GEO:-1.037409;52.380541
LOCATION:St Denys
URL:https://www.achurchnearyou.com/church/16403/service-and-events/events/
 799353/
END:VEVENT
BEGIN:VEVENT
SUMMARY:Holy Communion (Book of Common Prayer)
DTSTART;TZID=Europe/London:20260628T093000
DTEND;TZID=Europe/London:20260628T102000
DTSTAMP:20260424T204803Z
UID:7993531782635400.0achurchnearyou
CATEGORIES:
DESCRIPTION:A service of Holy Communion with recorded music and hymns.\nTh
 e Book of Common Prayer was written during the 1600s and although it has b
 een revised a little since then the language and mood of the service refle
 ct its centuries old history.
GEO:-1.037409;52.380541
LOCATION:St Denys
URL:https://www.achurchnearyou.com/church/16403/service-and-events/events/
 799353/
END:VEVENT
BEGIN:VEVENT
SUMMARY:Holy Communion (Book of Common Prayer)
DTSTART;TZID=Europe/London:20260726T093000
DTEND;TZID=Europe/London:20260726T102000
DTSTAMP:20260424T204803Z
UID:7993531785054600.0achurchnearyou
CATEGORIES:
DESCRIPTION:A service of Holy Communion with recorded music and hymns.\nTh
 e Book of Common Prayer was written during the 1600s and although it has b
 een revised a little since then the language and mood of the service refle
 ct its centuries old history.
GEO:-1.037409;52.380541
LOCATION:St Denys
URL:https://www.achurchnearyou.com/church/16403/service-and-events/events/
 799353/
END:VEVENT
BEGIN:VEVENT
SUMMARY:Holy Communion (Book of Common Prayer)
DTSTART;TZID=Europe/London:20260823T093000
DTEND;TZID=Europe/London:20260823T102000
DTSTAMP:20260424T204803Z
UID:7993531787473800.0achurchnearyou
CATEGORIES:
DESCRIPTION:A service of Holy Communion with recorded music and hymns.\nTh
 e Book of Common Prayer was written during the 1600s and although it has b
 een revised a little since then the language and mood of the service refle
 ct its centuries old history.
GEO:-1.037409;52.380541
LOCATION:St Denys
URL:https://www.achurchnearyou.com/church/16403/service-and-events/events/
 799353/
END:VEVENT
END:VCALENDAR
