BEGIN:VCALENDAR
VERSION:2.0
PRODID:-//achurchnearyou.com//eventfeed//EN
CALSCALE:GREGORIAN
METHOD:PUBLISH
X-WR-TIMEZONE:UTC
BEGIN:VEVENT
SUMMARY:Christingle Service
DTSTART:20251224T150000Z
DTEND:20251224T160000Z
DTSTAMP:20260419T215522Z
UID:11250812025-12-24 15:00:00+00:00achurchnearyou
CATEGORIES:
DESCRIPTION:A service for all the family to celebrate with Christingles
GEO:-1.280433;51.829659
LOCATION:Kidlington St Mary the Virgin
URL:https://www.achurchnearyou.com/church/165/service-and-events/events/11
 25081/
END:VEVENT
END:VCALENDAR
