BEGIN:VCALENDAR
VERSION:2.0
PRODID:-//achurchnearyou.com//eventfeed//EN
CALSCALE:GREGORIAN
METHOD:PUBLISH
X-WR-TIMEZONE:UTC
BEGIN:VEVENT
SUMMARY:Musical Afternoon with Refreshments
DTSTART:20251116T140000Z
DTEND:20251116T160000Z
DTSTAMP:20260422T164322Z
UID:12381582025-11-16 14:00:00+00:00achurchnearyou
CATEGORIES:
DESCRIPTION:Come and join us a Courteenhall Church for a Musical Afternoon
  with Refreshments. Music by Jinx in a barber shop style.\nIf you would li
 ke to join us please contact Lorna at pandlmartin.ashby@gmail.com or call 
 01604864856
GEO:-0.883632;52.169358
LOCATION:St Peter & St Paul
URL:https://www.achurchnearyou.com/church/16544/service-and-events/events/
 1238158/
END:VEVENT
END:VCALENDAR
