BEGIN:VCALENDAR
VERSION:2.0
PRODID:-//achurchnearyou.com//eventfeed//EN
CALSCALE:GREGORIAN
METHOD:PUBLISH
X-WR-TIMEZONE:UTC
BEGIN:VEVENT
SUMMARY:Easter Sunday
DTSTART;TZID=Europe/London:20260405T103000
DTEND;TZID=Europe/London:20260405T113000
DTSTAMP:20260422T085239Z
UID:9326562026-04-05 10:30:00+01:00achurchnearyou
CATEGORIES:
DESCRIPTION:Communion
GEO:-0.883632;52.169358
LOCATION:St Peter & St Paul
URL:https://www.achurchnearyou.com/church/16544/service-and-events/events/
 932656/
END:VEVENT
END:VCALENDAR
