BEGIN:VCALENDAR
VERSION:2.0
PRODID:-//achurchnearyou.com//eventfeed//EN
CALSCALE:GREGORIAN
METHOD:PUBLISH
X-WR-TIMEZONE:UTC
BEGIN:VEVENT
SUMMARY:Passover Supper
DTSTART:20260402T170000Z
DTEND:20260402T173000Z
DTSTAMP:20260423T103750Z
UID:10599872026-04-02 17:00:00+00:00achurchnearyou
CATEGORIES:
DESCRIPTION:6.00pm for 6.30pm Passover Supper in Great Casterton Church ha
 ll.  £10.00 per person.  Bring your own drinks.  A short service will be 
 followed by a supper and dessert. Vegetarian option available.
LOCATION:Great Casterton church hall
URL:https://www.achurchnearyou.com/church/16574/service-and-events/events/
 1059987/
END:VEVENT
END:VCALENDAR
