BEGIN:VCALENDAR
VERSION:2.0
PRODID:-//achurchnearyou.com//eventfeed//EN
CALSCALE:GREGORIAN
METHOD:PUBLISH
X-WR-TIMEZONE:UTC
BEGIN:VEVENT
SUMMARY:Epiphany Holy Communion at Little Casterton
DTSTART:20260104T090000Z
DTEND:20260104T100000Z
DTSTAMP:20260423T193104Z
UID:11954082026-01-04 09:00:00+00:00achurchnearyou
CATEGORIES:
DESCRIPTION:Holy Communion at Little Casterton
LOCATION:All Saints Little Casterton
URL:https://www.achurchnearyou.com/church/16574/service-and-events/events/
 1195408/
END:VEVENT
END:VCALENDAR
