BEGIN:VCALENDAR
VERSION:2.0
PRODID:-//achurchnearyou.com//eventfeed//EN
CALSCALE:GREGORIAN
METHOD:PUBLISH
X-WR-TIMEZONE:UTC
BEGIN:VEVENT
SUMMARY:Benefice Holy Communion at Little Casterton
DTSTART:20250629T093000Z
DTEND:20250629T103000Z
DTSTAMP:20260424T033459Z
UID:11954152025-06-29 09:30:00+00:00achurchnearyou
CATEGORIES:
DESCRIPTION:Holy Communion at Little Casterton
LOCATION:All Saints Little Casterton
URL:https://www.achurchnearyou.com/church/16574/service-and-events/events/
 1195415/
END:VEVENT
END:VCALENDAR
